BEGIN:VCALENDAR
VERSION:2.0
PRODID:-//The E List - ECPv6.15.20//NONSGML v1.0//EN
CALSCALE:GREGORIAN
METHOD:PUBLISH
X-WR-CALNAME:The E List
X-ORIGINAL-URL:https://the-e-list.com
X-WR-CALDESC:Events for The E List
REFRESH-INTERVAL;VALUE=DURATION:PT1H
X-Robots-Tag:noindex
X-PUBLISHED-TTL:PT1H
BEGIN:VTIMEZONE
TZID:UTC
BEGIN:STANDARD
TZOFFSETFROM:+0000
TZOFFSETTO:+0000
TZNAME:UTC
DTSTART:20230101T000000
END:STANDARD
END:VTIMEZONE
BEGIN:VTIMEZONE
TZID:UTC
BEGIN:STANDARD
TZOFFSETFROM:+0000
TZOFFSETTO:+0000
TZNAME:UTC
DTSTART:20230101T000000
END:STANDARD
END:VTIMEZONE
BEGIN:VTIMEZONE
TZID:America/New_York
BEGIN:DAYLIGHT
TZOFFSETFROM:-0500
TZOFFSETTO:-0400
TZNAME:EDT
DTSTART:20210314T070000
END:DAYLIGHT
BEGIN:STANDARD
TZOFFSETFROM:-0400
TZOFFSETTO:-0500
TZNAME:EST
DTSTART:20211107T060000
END:STANDARD
BEGIN:DAYLIGHT
TZOFFSETFROM:-0500
TZOFFSETTO:-0400
TZNAME:EDT
DTSTART:20220313T070000
END:DAYLIGHT
BEGIN:STANDARD
TZOFFSETFROM:-0400
TZOFFSETTO:-0500
TZNAME:EST
DTSTART:20221106T060000
END:STANDARD
BEGIN:DAYLIGHT
TZOFFSETFROM:-0500
TZOFFSETTO:-0400
TZNAME:EDT
DTSTART:20230312T070000
END:DAYLIGHT
BEGIN:STANDARD
TZOFFSETFROM:-0400
TZOFFSETTO:-0500
TZNAME:EST
DTSTART:20231105T060000
END:STANDARD
END:VTIMEZONE
BEGIN:VEVENT
DTSTART;TZID=UTC:20241212T170000
DTEND;TZID=UTC:20241212T200000
DTSTAMP:20260425T125219
CREATED:20241204T213455Z
LAST-MODIFIED:20241204T213622Z
UID:10002835-1734022800-1734033600@the-e-list.com
SUMMARY:Holiday Ladies Shopping Night Out in Madison
DESCRIPTION:Madison has something for everyone on your holiday shopping list! \nDon’t miss the Annual Ladies Shopping Night Out and explore over 20 incredible stores along Boston Post Road and Wall Street. Discover unique gifts\, enjoy gift wrapping\, festive treats\, drinks\, and exclusive 20% discounts. \nMake it an evening to shop local\, support Madison businesses\, and holiday cheer!\nPlan your night out with friends & family\, and celebrate the magic of the season in beautiful downtown Madison. \nCheck in at Café Allegre\, 725 Boston Post Road in downtown Madison\, between 5:00 – 6:00 PM to enter the Ladies Night Raffle for a chance to win one of two Madison tote bags filled with gift cards!\nClick to register now to skip the line and pick up your raffle ticket at check-in.
URL:https://the-e-list.com/event/holiday-ladies-shopping-night-out-in-madison/
LOCATION:Madison\, Madison\, Connecticut
ATTACH;FMTTYPE=image/png:https://the-e-list.com/wp-content/uploads/2024/12/Ladies-Night-social-2024-with-QR-e1733348138503.png
END:VEVENT
BEGIN:VEVENT
DTSTART;TZID=UTC:20240705T213000
DTEND;TZID=UTC:20240705T220000
DTSTAMP:20260425T125219
CREATED:20240701T171308Z
LAST-MODIFIED:20240701T171405Z
UID:10002663-1720215000-1720216800@the-e-list.com
SUMMARY:Madison Fireworks
DESCRIPTION:Celebrate the holiday weekend by heading to Madison on Friday\, July 5th to enjoy a fireworks display over Long Island Sound.  The fireworks will be launched from a barge moored south of West Wharf. \nClick for parking and road closure information or to make a donation to keep the fireworks tradition going strong.
URL:https://the-e-list.com/event/madison-fireworks/
LOCATION:Madison\, Madison\, Connecticut
ATTACH;FMTTYPE=image/png:https://the-e-list.com/wp-content/uploads/2024/07/Madison-FW-e1719853824131.png
END:VEVENT
BEGIN:VEVENT
DTSTART;VALUE=DATE:20220618
DTEND;VALUE=DATE:20220619
DTSTAMP:20260425T125219
CREATED:20220520T102005Z
LAST-MODIFIED:20220520T102005Z
UID:10001853-1655510400-1655596799@the-e-list.com
SUMMARY:Summer Solstice Day
DESCRIPTION:Come into Tidewater Lighting & Design on Saturday\, June 18th and celebrate Summer Solstice Day from 9 to 7. Lectures\, demonstrations\, raffles\, selected merchandise on sale and food served throughout the day. View our website for more information or call Tidewater Lighting & Design to learn more. \nHope to see you there\, 32B Wall Street Madison!
URL:https://the-e-list.com/event/summer-solstice-day/
LOCATION:Madison\, Madison\, Connecticut
ATTACH;FMTTYPE=image/jpeg:https://the-e-list.com/wp-content/uploads/2022/05/logo-2-e1653056390840.jpg
END:VEVENT
END:VCALENDAR