BEGIN:VCALENDAR
VERSION:2.0
PRODID:-//The E List - ECPv6.15.20//NONSGML v1.0//EN
CALSCALE:GREGORIAN
METHOD:PUBLISH
X-WR-CALNAME:The E List
X-ORIGINAL-URL:https://the-e-list.com
X-WR-CALDESC:Events for The E List
REFRESH-INTERVAL;VALUE=DURATION:PT1H
X-Robots-Tag:noindex
X-PUBLISHED-TTL:PT1H
BEGIN:VTIMEZONE
TZID:UTC
BEGIN:STANDARD
TZOFFSETFROM:+0000
TZOFFSETTO:+0000
TZNAME:UTC
DTSTART:20240101T000000
END:STANDARD
END:VTIMEZONE
BEGIN:VEVENT
DTSTART;TZID=UTC:20260404T110000
DTEND;TZID=UTC:20260404T160000
DTSTAMP:20260424T155516
CREATED:20260320T201736Z
LAST-MODIFIED:20260322T230651Z
UID:10003355-1775300400-1775318400@the-e-list.com
SUMMARY:Old Saybrook Bunny Hop
DESCRIPTION:Kids Bunny Hop on Main Street Street Old Saybrook\nSaturday April 4th 11-4 \nPurchase a $5 basket then “hop” into each participating business for special treats to fill your basket!\nMake sure to meet the Easter Bunny hopping along Main Street\nOnly 150 baskets available for purchase at Cottage Flair & Maximus Home from March 28th – April 4th
URL:https://the-e-list.com/event/bunny-hop/
LOCATION:Main Street Old Saybrook\, Old Saybrook
ATTACH;FMTTYPE=image/jpeg:https://the-e-list.com/wp-content/uploads/2026/03/Bunnyhop2026.jpeg
END:VEVENT
BEGIN:VEVENT
DTSTART;TZID=UTC:20260228T120000
DTEND;TZID=UTC:20260228T150000
DTSTAMP:20260424T155516
CREATED:20260205T001633Z
LAST-MODIFIED:20260225T173911Z
UID:10003305-1772280000-1772290800@the-e-list.com
SUMMARY:29th Annual Old Saybrook Chili Fest -- CANCELLED
DESCRIPTION:After careful consideration\, the Chamber has made the tough decision to cancel — and hopefully reschedule — the 29th Annual Old Saybrook Chili Fest that was to be held on Saturday\, February 28\, 2026. \nWith the snow storm impacting Connecticut and Main Street unable to be safely prepared in time\, they simply can’t bring the heat this weekend. \nThey  are actively exploring new plans and will announce updates as soon as possible. Thank you for your understanding and continued support of Old Saybrook community events. \nStay safe and warm!
URL:https://the-e-list.com/event/29th-annual-old-saybrook-chili-fest/
LOCATION:Main Street Old Saybrook\, Old Saybrook
ATTACH;FMTTYPE=image/png:https://the-e-list.com/wp-content/uploads/2026/02/chil-cancel-e1772041133943.png
END:VEVENT
BEGIN:VEVENT
DTSTART;TZID=UTC:20251018T150000
DTEND;TZID=UTC:20251018T190000
DTSTAMP:20260424T155516
CREATED:20250904T214635Z
LAST-MODIFIED:20250908T191619Z
UID:10003147-1760799600-1760814000@the-e-list.com
SUMMARY:The Great Main Street Pumpkin Festival
DESCRIPTION:The Great Main Street Pumpkin Festival\nOctober 18th\n3:00 – 7:00 \nHead to Old Saybrook’s Main Street for an afternoon of\nfamily-friendly Fall fun!\nCrafts & activities\, sips & snacks\, music\, shopping\, a scavenger hunt (one prize winner!)\n& so much more! \nStroll & see what Old Saybrook’s amazing Main Street has to offer!\n*Costumes encouraged * \nSponsored by  \nEssex Savings Bank\nSeasalt Med Spa\nRed Wagon Pumpkins\nThe Main Street Business Events Association
URL:https://the-e-list.com/event/the-great-main-street-pumpkin-festival/
LOCATION:Main Street Old Saybrook\, Old Saybrook
ATTACH;FMTTYPE=image/jpeg:https://the-e-list.com/wp-content/uploads/2025/09/Pumpkin-Fest-jpg-copy-e1757358913545.jpg
END:VEVENT
BEGIN:VEVENT
DTSTART;TZID=UTC:20250925T170000
DTEND;TZID=UTC:20250925T200000
DTSTAMP:20260424T155516
CREATED:20250822T124036Z
LAST-MODIFIED:20250823T113633Z
UID:10003126-1758819600-1758830400@the-e-list.com
SUMMARY:Ladies Swag Stroll
DESCRIPTION:Old Saybrook Main Street Ladies Swag Stroll\nSeptember 25th 5–8 \nPurchase a $10 tote bag\nGrab your girlfriends and stop into more than 10 participating businesses to pick up your “swag” gifts plus earn tickets to enter to win a gift basket filled with goodies! \nBags available at Cottage Flair\nOnly 100 will be sold!\nPre-sale begins September 20th
URL:https://the-e-list.com/event/ladies-swag-stroll/
LOCATION:Main Street Old Saybrook\, Old Saybrook
ATTACH;FMTTYPE=image/png:https://the-e-list.com/wp-content/uploads/2025/08/OSmainstswagstroll-e1755866432826.png
ORGANIZER;CN="Cottage Flair":MAILTO:shopflair2@yahoo.com
END:VEVENT
BEGIN:VEVENT
DTSTART;TZID=UTC:20250622T133000
DTEND;TZID=UTC:20250622T180000
DTSTAMP:20260424T155516
CREATED:20250516T203455Z
LAST-MODIFIED:20250519T201757Z
UID:10003025-1750599000-1750615200@the-e-list.com
SUMMARY:Celebrate Saybrook Street Party
DESCRIPTION:Kick off summer at the 3rd annual Celebrate Saybrook Street Party! Main Street will be closed and filled with live music\, delicious food\, CT-made craft beer and spirits\, an exciting mix of vendors and lots of family fun! This year live music will be headlined by fan-favorite\, Sugar\, on the main stage with performances by Jamie’s Junk Show and Jeremy Haddad on the north stage. Check out the event website for all the details! \nSponsored by FTD.
URL:https://the-e-list.com/event/celebrate-saybrook-street-party-2/
LOCATION:Main Street Old Saybrook\, Old Saybrook
ATTACH;FMTTYPE=image/jpeg:https://the-e-list.com/wp-content/uploads/2025/05/TOOS_Celebrate_Saybrook_Newspaper_Ads_5-038x5-042-002-e1747427621530.jpg
END:VEVENT
END:VCALENDAR