BEGIN:VCALENDAR
VERSION:2.0
PRODID:-//The E List - ECPv6.15.20//NONSGML v1.0//EN
CALSCALE:GREGORIAN
METHOD:PUBLISH
X-ORIGINAL-URL:https://the-e-list.com
X-WR-CALDESC:Events for The E List
REFRESH-INTERVAL;VALUE=DURATION:PT1H
X-Robots-Tag:noindex
X-PUBLISHED-TTL:PT1H
BEGIN:VTIMEZONE
TZID:America/New_York
BEGIN:DAYLIGHT
TZOFFSETFROM:-0500
TZOFFSETTO:-0400
TZNAME:EDT
DTSTART:20210314T070000
END:DAYLIGHT
BEGIN:STANDARD
TZOFFSETFROM:-0400
TZOFFSETTO:-0500
TZNAME:EST
DTSTART:20211107T060000
END:STANDARD
BEGIN:DAYLIGHT
TZOFFSETFROM:-0500
TZOFFSETTO:-0400
TZNAME:EDT
DTSTART:20220313T070000
END:DAYLIGHT
BEGIN:STANDARD
TZOFFSETFROM:-0400
TZOFFSETTO:-0500
TZNAME:EST
DTSTART:20221106T060000
END:STANDARD
BEGIN:DAYLIGHT
TZOFFSETFROM:-0500
TZOFFSETTO:-0400
TZNAME:EDT
DTSTART:20230312T070000
END:DAYLIGHT
BEGIN:STANDARD
TZOFFSETFROM:-0400
TZOFFSETTO:-0500
TZNAME:EST
DTSTART:20231105T060000
END:STANDARD
END:VTIMEZONE
BEGIN:VEVENT
DTSTART;TZID=America/New_York:20221010T110000
DTEND;TZID=America/New_York:20221016T230000
DTSTAMP:20260426T000639
CREATED:20220926T123233Z
LAST-MODIFIED:20220926T123233Z
UID:10001912-1665399600-1665961200@the-e-list.com
SUMMARY:Greater Guilford Restaurant Week Fall Edition
DESCRIPTION:Greater Guilford Restaurant Week Fall Edition – October 10 -16\, 2022 \nGreater Guilford Restaurant Week returns this fall featuring unique & fine dining options from Guilford\, Branford\, North Branford\, East Haven\, Madison\, Clinton & Westbrook. \nFrom October 10 – 16\, 2022\, participating restaurants will be serving up delicious multi-course fixed-price menus & specials. \nWhether you’re trying something new or enjoying a longtime favorite\, Greater Guilford Restaurant Week makes it easy & affordable for everyone to get a taste of the shoreline’s acclaimed restaurants & eateries. See the menus at: ConnecticutRestaurantWeek.com \nCurrent Restaurant Week Participants: \nArturo’s Restaurant\nCafe Allegre\nChow Food & Beverage\nEli’s Branford\nGW Carson’s\nLa Luna Ristorante\nMillpond Gatherings Steakhouse & Tavern\nThe Marketplace at Guilford Food Center\nParthenon Diner Restaurant\nRossitto’s Ristorante\nSouth Lane Bistro\nTaqueria La Frontera\nThimble Island Brewing Company\nThree Girls Vegan Creamery\nU.S.S. Chowder Pot III\nThe Wharf Restaurant at Madison Beach Hotel \nCheck back for more restaurants and special menus! \nVisit ConnecticutRestaurantWeek.com for more information. Follow along with us on social media on Facebook\, Instagram and Twitter for daily updates on #GreaterGuilfordRW \n 
URL:https://the-e-list.com/event/greater-guilford-restaurant-week-fall-edition/
LOCATION:Multiple Restaurants\, 260\, CT\, 06460\, United States
ATTACH;FMTTYPE=image/jpeg:https://the-e-list.com/wp-content/uploads/2022/09/Greater-Guilford-RW-Fall-social-e1664209903691.jpg
END:VEVENT
END:VCALENDAR