BEGIN:VCALENDAR
VERSION:2.0
PRODID:-//The E List - ECPv6.15.20//NONSGML v1.0//EN
CALSCALE:GREGORIAN
METHOD:PUBLISH
X-ORIGINAL-URL:https://the-e-list.com
X-WR-CALDESC:Events for The E List
REFRESH-INTERVAL;VALUE=DURATION:PT1H
X-Robots-Tag:noindex
X-PUBLISHED-TTL:PT1H
BEGIN:VTIMEZONE
TZID:UTC
BEGIN:STANDARD
TZOFFSETFROM:+0000
TZOFFSETTO:+0000
TZNAME:UTC
DTSTART:20230101T000000
END:STANDARD
END:VTIMEZONE
BEGIN:VEVENT
DTSTART;TZID=UTC:20240521T190000
DTEND;TZID=UTC:20240521T210000
DTSTAMP:20260425T130317
CREATED:20240507T210212Z
LAST-MODIFIED:20240509T202310Z
UID:10002605-1716318000-1716325200@the-e-list.com
SUMMARY:Guilford Community Services & Volunteer Information Session
DESCRIPTION:Guilford Community Services & Volunteer Information Session\nMay 21\, 7 PM – 9 PM\nNathanael B. Green Community Center\, 32 Church Street\, Guilford\, CT\nHosted by: Guilford Newcomers Club     Contact: guilfordmembershipinfo@gmail.com \n\n\n\nThe Guilford Newcomers Club will host several non-profit organizations\, including the Guilford Keeping Society\, Meals on Wheels\, Guilford Food Bank\, Friendly Visiting\, Charlie’s Closet\, Guilford Interfaith Council\, the Guilford Youth Mentoring Program\, ABC House\, and Guilford Preservation Alliance. Each organization will share a brief overview of its services and answer any questions you may have. \nGuilford First Selectman Matt Hoey will be present to discuss volunteer opportunities on the town’s Boards and Commissions. His presence underscores the importance of community involvement and the value of your potential contributions. \nAll are welcome to attend\, whether you’re considering volunteering or simply want to learn more about these organizations’ impactful work. \nQuestions? Contact GNCmembershipinfo@gmail.com.
URL:https://the-e-list.com/event/guilford-community-services-volunteer-information-session/
LOCATION:Nathanael B Green Community Center\, 32 Church Street\, Guilford\, CT
ATTACH;FMTTYPE=image/png:https://the-e-list.com/wp-content/uploads/2024/05/FB-event-post-v2-e1715115725152.png
END:VEVENT
END:VCALENDAR