BEGIN:VCALENDAR
VERSION:2.0
PRODID:-//The E List - ECPv6.15.20//NONSGML v1.0//EN
CALSCALE:GREGORIAN
METHOD:PUBLISH
X-ORIGINAL-URL:https://the-e-list.com
X-WR-CALDESC:Events for The E List
REFRESH-INTERVAL;VALUE=DURATION:PT1H
X-Robots-Tag:noindex
X-PUBLISHED-TTL:PT1H
BEGIN:VTIMEZONE
TZID:UTC
BEGIN:STANDARD
TZOFFSETFROM:+0000
TZOFFSETTO:+0000
TZNAME:UTC
DTSTART:20230101T000000
END:STANDARD
END:VTIMEZONE
BEGIN:VEVENT
DTSTART;VALUE=DATE:20240414
DTEND;VALUE=DATE:20240420
DTSTAMP:20260425T165638
CREATED:20240409T154136Z
LAST-MODIFIED:20240409T154240Z
UID:10002574-1713052800-1713571199@the-e-list.com
SUMMARY:New Haven Restaurant Week 2024
DESCRIPTION:New Haven Restaurant Week returns April 14 – 19\, 2024! \nMore than 20 of New Haven’s award-winning and internationally diverse restaurants are featuring special fixed price multi-course menus and deals. New Haven Restaurant Week is presented by Info New Haven. \nReservations are highly recommend\, so book your tables early! Click for a list of participating restaurants then  click here to visit Open Table to make your reservations.
URL:https://the-e-list.com/event/new-haven-restaurant-week-2024/
LOCATION:New Haven
ATTACH;FMTTYPE=image/jpeg:https://the-e-list.com/wp-content/uploads/2024/04/Restaurant-Week-NewHaven-1-e1712677257427.jpg
END:VEVENT
END:VCALENDAR