BEGIN:VCALENDAR
VERSION:2.0
PRODID:-//The E List - ECPv6.15.20//NONSGML v1.0//EN
CALSCALE:GREGORIAN
METHOD:PUBLISH
X-WR-CALNAME:The E List
X-ORIGINAL-URL:https://the-e-list.com
X-WR-CALDESC:Events for The E List
REFRESH-INTERVAL;VALUE=DURATION:PT1H
X-Robots-Tag:noindex
X-PUBLISHED-TTL:PT1H
BEGIN:VTIMEZONE
TZID:UTC
BEGIN:STANDARD
TZOFFSETFROM:+0000
TZOFFSETTO:+0000
TZNAME:UTC
DTSTART:20250101T000000
END:STANDARD
END:VTIMEZONE
BEGIN:VEVENT
DTSTART;TZID=UTC:20260430T190000
DTEND;TZID=UTC:20260430T194500
DTSTAMP:20260422T230826
CREATED:20260420T224518Z
LAST-MODIFIED:20260420T224955Z
UID:10003395-1777575600-1777578300@the-e-list.com
SUMMARY:FREE Parenting Webinar: How Do We Talk to Our Kids About This Crazy Mixed-Up World
DESCRIPTION:This is a talk for parents with children of any age\, grandparents\, teachers\, school administrators\, and counselors. It will be 45 minutes of no-nonsense\, expert\, and compassionate guidance on talking to kids of all ages about the confusing world we live in. You will learn: \n• Practical communication tools to navigate these conversations confidently and in ways that suit your specific family.\n• Key communication strategies for kids of different ages (<5 – 18+) and what to expect in these conversations.\n• Unforeseen ways you pass on your stress/anxiety and how to minimize these moments. \nYou will not regret the time spent coming to this talk! \nPlease note that we will not be addressing politics\, religion\, ethics\, or any other topics that may divide us. Instead\, we are coming together to help each other and our children during very difficult times. \nClick to register.
URL:https://the-e-list.com/event/free-parenting-webinar-how-do-we-talk-to-our-kids-about-this-crazy-mixed-up-world/
LOCATION:Online event\, CT
ATTACH;FMTTYPE=image/png:https://the-e-list.com/wp-content/uploads/2026/04/Front-3-e1776725369860.png
END:VEVENT
END:VCALENDAR