BEGIN:VCALENDAR
VERSION:2.0
PRODID:-//The E List - ECPv6.15.20//NONSGML v1.0//EN
CALSCALE:GREGORIAN
METHOD:PUBLISH
X-WR-CALNAME:The E List
X-ORIGINAL-URL:https://the-e-list.com
X-WR-CALDESC:Events for The E List
REFRESH-INTERVAL;VALUE=DURATION:PT1H
X-Robots-Tag:noindex
X-PUBLISHED-TTL:PT1H
BEGIN:VTIMEZONE
TZID:UTC
BEGIN:STANDARD
TZOFFSETFROM:+0000
TZOFFSETTO:+0000
TZNAME:UTC
DTSTART:20250101T000000
END:STANDARD
END:VTIMEZONE
BEGIN:VEVENT
DTSTART;VALUE=DATE:20260501
DTEND;VALUE=DATE:20260602
DTSTAMP:20260423T045530
CREATED:20260420T222525Z
LAST-MODIFIED:20260421T112647Z
UID:10003394-1777593600-1780358399@the-e-list.com
SUMMARY:Creative Classes at Pencil & Wool
DESCRIPTION:Wool Hooked Bag Charm\nFriday May 1\, 1-4pm $65\nUsing traditional rug hooking techniques in a non traditional way \, create a unique and colorful bag charm! Finish off with standard hand sewing.\nAll materials included\, no experience necessary \nWet Felting Day 1\nSaturday May 2\, 10-12 $50\nJoin us for Day 1 of this workshop where you will learn wet-felting techniques to create a landscape. Using felt roving\, bubble wrap (yes\, really!)\, soap\, and water you will manipulate the felt into a beautiful design! All materials are provided and no experience necessary! \nSunday May 3\, 1-3pm $50\nWelcome back for Day 2 of this workshop where you will learn wet-felting techniques to create a landscape. Using the felt base you made on day 1\, you will add embellishments using needle felting and embroidery\, and learn how to finish and mat your piece! All materials provided. \nMothers Day Cards\nThursday May 7\, 4-7pm $40\nJoin us as we create unique folded cards\, perfect and in time for Mother’s / Father’s day! \nWatercolor & Pen Seashells\nFriday May 15\, 3-5pm $40\nDuring this workshop you will learn how to use watercolor techniques to paint shells\, and finish them off with details in pen! All materials provided and no experience necessary. Light snacks and drinks provided 🙂 \nGuest Workshop: Nantucket Woven Bracelet\nSaturday May 16\, 1-3pm $175\nEnjoy an afternoon learning the traditional craft of Nantucket Basket Weaving with Anne of Shipyard Weaving\, The Colorful Nantucket \nMonthly Hook-In\nSunday May 17\, 2-5pm $20\nJoin us at our monthly hook-in! Bring the hooking project you are currently working on or grab one here and enjoy our space and the company of other hookers 😉 This is also a great opportunity to try out different tools and techniques or get advice from us and others in the community! \nWatercolor Sketchbook: Nature Explorations\nWednesday May 20\, 3-5pm $60\nIn this workshop\, we will\, as a group\, walk through nearby outdoor spaces to collect natural bits and pieces (leaves\, feathers\, sticks\, etc.) and come back to the shop to document our finds using watercolor and pen in a sketchbook.\nThe sketchbook will be provided for you and is included in your ticket price! No experience necessary 🙂 light snacks and drinks provided. \nHand Painted Wooden Bracelet\nThursday May 21\, 5-7pm $50\nDuring this workshop you will use acrylic paint to paint and embellish wooden beads to create a one-of-a-kind bracelet! All materials provided\, feel free to BYOB or BYOSnacks. Light drinks and snacks will be provided 🙂 \nBotanical Illustration in Colored Pencil\nFriday May 29\, 1-4pm $95\nIn this workshop you will learn drawing and colored pencil techniques to portray natural/botanical subject matter. No experience necessary\, all materials provided. \nIntroduction to Rug Hooking\nSaturday May 30\, 2-5pm $80\nDiscover the art of rug-hooking in this hands-on\, beginner friendly workshop! You will learn the basics\, explore the materials\, and create your very own\, handmade mug-rug.
URL:https://the-e-list.com/event/creative-classes-at-pencil-wool/
LOCATION:Pencil & Wool\, 12 Main Street\, Essex\, CT
ATTACH;FMTTYPE=image/jpeg:https://the-e-list.com/wp-content/uploads/2026/04/Shop-Pencil-Wool-scaled-e1776770802314.jpg
END:VEVENT
END:VCALENDAR