BEGIN:VCALENDAR
VERSION:2.0
PRODID:-//The E List - ECPv6.15.20//NONSGML v1.0//EN
CALSCALE:GREGORIAN
METHOD:PUBLISH
X-WR-CALNAME:The E List
X-ORIGINAL-URL:https://the-e-list.com
X-WR-CALDESC:Events for The E List
REFRESH-INTERVAL;VALUE=DURATION:PT1H
X-Robots-Tag:noindex
X-PUBLISHED-TTL:PT1H
BEGIN:VTIMEZONE
TZID:UTC
BEGIN:STANDARD
TZOFFSETFROM:+0000
TZOFFSETTO:+0000
TZNAME:UTC
DTSTART:20230101T000000
END:STANDARD
END:VTIMEZONE
BEGIN:VEVENT
DTSTART;TZID=UTC:20240413T140000
DTEND;TZID=UTC:20240413T153000
DTSTAMP:20260425T153203
CREATED:20240401T010143Z
LAST-MODIFIED:20240401T010341Z
UID:10002562-1713016800-1713022200@the-e-list.com
SUMMARY:Like Notes of Music with Christian Peltenburg-Breshneff at OLPGN
DESCRIPTION:Like Notes of Music: Documentary Screening and Artist Talk with Christian Peltenburg-Breshneff\nSATURDAY\, APRIL 13th from 2:00—3:30 PM at the Community Room at Old Lyme PGN Library\, 2 Library Lane\, Old Lyme\, CT.  A reception with follow at the Cooley Gallery\, 25 Lyme Street\, Old Lyme\, CT at 4 pm where Peltenburg-Brechneff’s collection of flower paintings is currently being exhibited. \nInternationally known artist Christian Peltenburg-Brechneff will screen his award winning documentary about his life and work Like Notes of Music. Copies of his books The Greek House\, Into the Garden\, and Homage will also be available for purchase. \nClick to register.
URL:https://the-e-list.com/event/like-notes-of-music-with-christian-peltenburg-breshneff-at-olpgn/
LOCATION:Phoebe Griffin Noyes Library\, 2 Library Lane\, Old Lyme\, CT\, 06371\, United States
ATTACH;FMTTYPE=image/jpeg:https://the-e-list.com/wp-content/uploads/2024/04/OLPGN-e1711933286653.jpg
END:VEVENT
END:VCALENDAR