BEGIN:VCALENDAR
VERSION:2.0
PRODID:-//The E List - ECPv6.15.20//NONSGML v1.0//EN
CALSCALE:GREGORIAN
METHOD:PUBLISH
X-ORIGINAL-URL:https://the-e-list.com
X-WR-CALDESC:Events for The E List
REFRESH-INTERVAL;VALUE=DURATION:PT1H
X-Robots-Tag:noindex
X-PUBLISHED-TTL:PT1H
BEGIN:VTIMEZONE
TZID:UTC
BEGIN:STANDARD
TZOFFSETFROM:+0000
TZOFFSETTO:+0000
TZNAME:UTC
DTSTART:20250101T000000
END:STANDARD
END:VTIMEZONE
BEGIN:VEVENT
DTSTART;TZID=UTC:20260508T183000
DTEND;TZID=UTC:20260508T210000
DTSTAMP:20260422T203503
CREATED:20260313T210659Z
LAST-MODIFIED:20260314T171044Z
UID:10003346-1778265000-1778274000@the-e-list.com
SUMMARY:Safe Futures STAND UP Comedy Fundraiser
DESCRIPTION:The Niantic Rotary Foundation is proud to present this fundraiser to benefit the Campaign for the Center of Safe Futures. \nSafe Futures provides free services to thousands of domestic violence survivors. The Center for Safe Futures will be a multi-agency campus of professionals offering services in one place\, offering safety\, convenience and hope to all impacted. \nHelp  the Niantic Rotary Foundation sell out the Port N Starboard banquet hall\, have a few laughs\, and show your support. \n$35 per person includes a charcuterie board on each table. Cash Bar on site.\nPurchase 8 tickets for a RESERVED table. Requested at time of purchase. \nTickets are available now!
URL:https://the-e-list.com/event/safe-futures-stand-up-comedy-fundraiser/
LOCATION:Port N Starboard Banquet Hall\, 1225 Ocean Ave\, New London\, CT
ATTACH;FMTTYPE=image/jpeg:https://the-e-list.com/wp-content/uploads/2026/03/Niantic-Cabaret.jpg
ORGANIZER;CN="Niantic Rotary Foundation":MAILTO:info@nianticrotary.org
END:VEVENT
END:VCALENDAR