BEGIN:VCALENDAR
VERSION:2.0
PRODID:-//The E List - ECPv6.15.20//NONSGML v1.0//EN
CALSCALE:GREGORIAN
METHOD:PUBLISH
X-ORIGINAL-URL:https://the-e-list.com
X-WR-CALDESC:Events for The E List
REFRESH-INTERVAL;VALUE=DURATION:PT1H
X-Robots-Tag:noindex
X-PUBLISHED-TTL:PT1H
BEGIN:VTIMEZONE
TZID:UTC
BEGIN:STANDARD
TZOFFSETFROM:+0000
TZOFFSETTO:+0000
TZNAME:UTC
DTSTART:20230101T000000
END:STANDARD
END:VTIMEZONE
BEGIN:VTIMEZONE
TZID:America/New_York
BEGIN:DAYLIGHT
TZOFFSETFROM:-0500
TZOFFSETTO:-0400
TZNAME:EDT
DTSTART:20220313T070000
END:DAYLIGHT
BEGIN:STANDARD
TZOFFSETFROM:-0400
TZOFFSETTO:-0500
TZNAME:EST
DTSTART:20221106T060000
END:STANDARD
BEGIN:DAYLIGHT
TZOFFSETFROM:-0500
TZOFFSETTO:-0400
TZNAME:EDT
DTSTART:20230312T070000
END:DAYLIGHT
BEGIN:STANDARD
TZOFFSETFROM:-0400
TZOFFSETTO:-0500
TZNAME:EST
DTSTART:20231105T060000
END:STANDARD
BEGIN:DAYLIGHT
TZOFFSETFROM:-0500
TZOFFSETTO:-0400
TZNAME:EDT
DTSTART:20240310T070000
END:DAYLIGHT
BEGIN:STANDARD
TZOFFSETFROM:-0400
TZOFFSETTO:-0500
TZNAME:EST
DTSTART:20241103T060000
END:STANDARD
END:VTIMEZONE
BEGIN:VEVENT
DTSTART;TZID=UTC:20241010T180000
DTEND;TZID=UTC:20241010T200000
DTSTAMP:20260423T093714
CREATED:20240922T224703Z
LAST-MODIFIED:20240922T224703Z
UID:10002761-1728583200-1728590400@the-e-list.com
SUMMARY:Restore & Renew Sciton Laser Event at Privé Swiss Med Spa
DESCRIPTION:Learn the benefits of our state-of-the-art Sciton BBL and Halo lasers for skin rejuvenation lasers at Prive Swiss Med Spa. \nDate(s): 2024-10-10 – 2024-10-10\nTime: 06:00 pm – 08:00 pm \nContact Information: Phone (860) 662-4866 Email info@priveswiss.com
URL:https://the-e-list.com/event/restore-renew-sciton-laser-event-at-prive-swiss-med-spa/
LOCATION:Prive Swiss MedSpa\, 10 Main Street\, Essex Village\, CT\, 06426
ATTACH;FMTTYPE=image/jpeg:https://the-e-list.com/wp-content/uploads/2024/09/Sciton-Laser-Event-101024.jpg
END:VEVENT
BEGIN:VEVENT
DTSTART;TZID=UTC:20240510T100000
DTEND;TZID=UTC:20240510T170000
DTSTAMP:20260423T093714
CREATED:20240507T204207Z
LAST-MODIFIED:20240507T204304Z
UID:10002606-1715335200-1715360400@the-e-list.com
SUMMARY:Mothers Day Pop-Up Flower Bar
DESCRIPTION:Stop by Privé-Swiss MedSpa Friday\, May 10th starting at 10am for their annual pop-up flower bar featuring Cynthia’s Flower Shop of Branford. Build-A-Bouquet\, shop our boutique\, or purchase a MedSpa gift card! \nRefreshments will be served.\nThe bouquets are priced by the stem.
URL:https://the-e-list.com/event/mothers-day-pop-up-flower-bar/
LOCATION:Prive Swiss MedSpa\, 10 Main Street\, Essex Village\, CT\, 06426
END:VEVENT
BEGIN:VEVENT
DTSTART;TZID=America/New_York:20231025T160000
DTEND;TZID=America/New_York:20231025T200000
DTSTAMP:20260423T093714
CREATED:20231004T095526Z
LAST-MODIFIED:20231004T095526Z
UID:10002331-1698249600-1698264000@the-e-list.com
SUMMARY:Fit for Fall- Fashion\, Beauty & Bra Fitting Event at Privé-Swiss Wellness Spa
DESCRIPTION:October is Breast Cancer Awareness Month. \nJoin Privé-Swiss Wellness Spa for Fashion\, Fittings & Fun on Wednesday\, October 25th from 4-8 pm! \nBra fittings with Filly Rose Fitting Studio\, makeup workshops\, chair massage and beauty bar specials with Privé-Swiss\, and 10% off Port + Willow retail! \nCall to reserve your appointment: 860-662-4866
URL:https://the-e-list.com/event/fit-for-fall-fashion-beauty-bra-fitting-event-at-prive-swiss/
LOCATION:Prive Swiss MedSpa\, 10 Main Street\, Essex Village\, CT\, 06426
ATTACH;FMTTYPE=image/jpeg:https://the-e-list.com/wp-content/uploads/2023/10/pexels-anna-tarazevich-5482987-scaled-e1696427632299.jpg
END:VEVENT
BEGIN:VEVENT
DTSTART;TZID=America/New_York:20230812T100000
DTEND;TZID=America/New_York:20230812T120000
DTSTAMP:20260423T093714
CREATED:20230807T163717Z
LAST-MODIFIED:20230807T163717Z
UID:10002239-1691834400-1691841600@the-e-list.com
SUMMARY:Make Up Master Class: All About the Eyes at Privé-Swiss Wellness Spa
DESCRIPTION:Have you always wanted to know how to do the perfect eye makeup but didn’t know where to start? Get all your questions answered and learn it all in one place with our makeup expert Bethany! \nThis eye makeup masterclass is perfect for makeup beginners as it covers these 7 main topics: \n1. Identifying your eye shape – Learn how to identify what shape your eyes are and what makeup trends help accentuate your particular shape.\n2. Eyeshadow – Learn what eyeshadow bases are used for and the 3 types of eyeshadow placements to create tons of looks.\n3. Eyeliner – How to apply eyeliner\, using eyeliner to create different looks\, and identifying the best color for your desired look.\n4. Defining the eyes – How to naturally define the eyes using just eyeshadow\, how to tightline\, and how to waterline.\n5. Mascara – How to apply mascara as well as mascara tips and tricks.\n6. Undereye concealer – Why undereye concealer creases and how to prevent your undereye concealer from creasing.\n7. Prevention of common makeup problems – Cream eyeshadow creasing\, eyeshadow fading\, eyeshadow losing vibrancy\, eyeliner smudging\, eyeliner fading\, mascara smudging\, and eyebrow products fading. \nRSVP Required\nCall or stop in to reserve your spot!
URL:https://the-e-list.com/event/make-up-master-class-all-about-the-eyes-at-prive-swiss-wellness-spa/
LOCATION:Prive Swiss MedSpa\, 10 Main Street\, Essex Village\, CT\, 06426
ATTACH;FMTTYPE=image/jpeg:https://the-e-list.com/wp-content/uploads/2023/08/all-about-eyes-e1691440685375.jpeg
END:VEVENT
BEGIN:VEVENT
DTSTART;VALUE=DATE:20230801
DTEND;VALUE=DATE:20230901
DTSTAMP:20260423T093714
CREATED:20230807T173225Z
LAST-MODIFIED:20230807T173225Z
UID:10002237-1690848000-1693526399@the-e-list.com
SUMMARY:Girls Day Out Package at Privé-Swiss Wellness Spa
DESCRIPTION:Invite your best girlfriends and book your night out at Privé-Swiss Wellness Spa!\nChoose from our extensive service menu\, and allow yourself enough time to enjoy a hot cup of tea and shop our spa boutique.\nCome\, relax\, visit and have fun! \nWhen groups of 2 or more book:\nBook one service\, receive a complimentary service upgrade.\nBook two or more services\, everyone receives a gift with their service. \nFor more information on our services\, visit: priveswisswellness.com/services
URL:https://the-e-list.com/event/girls-day-out-package-at-prive-swiss-wellness-spa/
LOCATION:Prive Swiss MedSpa\, 10 Main Street\, Essex Village\, CT\, 06426
ATTACH;FMTTYPE=image/jpeg:https://the-e-list.com/wp-content/uploads/2023/08/girls-day-out-e1691443067125.jpeg
END:VEVENT
BEGIN:VEVENT
DTSTART;VALUE=DATE:20230801
DTEND;VALUE=DATE:20230901
DTSTAMP:20260423T093714
CREATED:20230807T170120Z
LAST-MODIFIED:20230807T170120Z
UID:10002238-1690848000-1693526399@the-e-list.com
SUMMARY:Privé-Swiss Wellness Spa Presents August Glam Package
DESCRIPTION:Treat yourself to our August Glam Package!\nReceive a comprehensive 60 minute make up lesson in which you will learn insightful tips to care for your skin and leave feeling more educated on a variety of makeup products!\nWhen it comes to makeup\, skillful application can make all the difference! \nIn addition to your makeup lesson you will also receive a product consultation where together we will choose the following items for you to take home!\n-Makeup bag\n-Facial Sponge\n-Facial Primer\n-Eyeshadow Primer\n-Eyeshadow Pallet \nPackage Price: $200 ($300 Value)\n*Ask our team about making it a dual lesson for both you and your best girlfriend!
URL:https://the-e-list.com/event/prive-swiss-wellness-spa-presents-august-glam-package/
LOCATION:Prive Swiss MedSpa\, 10 Main Street\, Essex Village\, CT\, 06426
ATTACH;FMTTYPE=image/png:https://the-e-list.com/wp-content/uploads/2023/08/august-glam-e1691441931626.png
END:VEVENT
BEGIN:VEVENT
DTSTART;TZID=America/New_York:20230512T130000
DTEND;TZID=America/New_York:20230514T150000
DTSTAMP:20260423T093714
CREATED:20230328T115019Z
LAST-MODIFIED:20230328T115019Z
UID:10002116-1683896400-1684076400@the-e-list.com
SUMMARY:Mother's Day Bloom Bar
DESCRIPTION:Treat Mom to a personalized Mar Floral Arrangement this Mother’s Day Weekend! 10 Main Street in Essex Village will have a beautiful display of fresh\, seasonal stem flowers to arrange the perfect gift! \n1. Choose your flowers\n2. Wrap with love\n3. Tie with a bow\n4. Take home & let love grow \nHappy Mother’s Day! \n*Prices vary based on flowers chosen\nGift cards to our beautiful Wellness Spa are also available
URL:https://the-e-list.com/event/mothers-day-bloom-bar/
LOCATION:Prive Swiss MedSpa\, 10 Main Street\, Essex Village\, CT\, 06426
ATTACH;FMTTYPE=image/png:https://the-e-list.com/wp-content/uploads/2023/03/Flower-e1679945050628.png
END:VEVENT
BEGIN:VEVENT
DTSTART;TZID=America/New_York:20230322T173000
DTEND;TZID=America/New_York:20230322T193000
DTSTAMP:20260423T093714
CREATED:20230301T132738Z
LAST-MODIFIED:20230301T132738Z
UID:10002088-1679506200-1679513400@the-e-list.com
SUMMARY:OPEN HOUSE: Mindful Eating & Weight Loss Management Program
DESCRIPTION:Mindful Eating & Weight Management Program \nSee you at the Open House: 10 Main Street- Essex Village to learn more about our newest offering with certified nutritionist\, Brigitta Jansen. \nStart your Wellness Journey Today\nComplimentary chair massage & refreshments. \n3 & 6 Month Programs starting soon\nOpen Enrollment\nTwo 15minute Infrared Sauna Sessions per Month\nCash discounts this night only!!\nWellness services available to book! \nProgram:\n1-1 30 minute check in Meetings every Monday\nGroup Meetings Tuesday Nights at 6:30pm to share recipes and receive group support\nSupplements will be available to purchase\nInitial assessment with Brigitta \nInsurance accepted: Aetna\, Anthem Blue Cross\, Cigna\, United. Connecticare coming soon! \nFor more information visit us at : www.priveswisswellness.com
URL:https://the-e-list.com/event/open-house-mindful-eating-weight-loss-management/
LOCATION:Prive Swiss MedSpa\, 10 Main Street\, Essex Village\, CT\, 06426
ATTACH;FMTTYPE=image/png:https://the-e-list.com/wp-content/uploads/2023/03/mindful-eating-e1677691527640.png
END:VEVENT
END:VCALENDAR