BEGIN:VCALENDAR
VERSION:2.0
PRODID:-//The E List - ECPv6.15.20//NONSGML v1.0//EN
CALSCALE:GREGORIAN
METHOD:PUBLISH
X-WR-CALNAME:The E List
X-ORIGINAL-URL:https://the-e-list.com
X-WR-CALDESC:Events for The E List
REFRESH-INTERVAL;VALUE=DURATION:PT1H
X-Robots-Tag:noindex
X-PUBLISHED-TTL:PT1H
BEGIN:VTIMEZONE
TZID:UTC
BEGIN:STANDARD
TZOFFSETFROM:+0000
TZOFFSETTO:+0000
TZNAME:UTC
DTSTART:20230101T000000
END:STANDARD
END:VTIMEZONE
BEGIN:VTIMEZONE
TZID:America/New_York
BEGIN:DAYLIGHT
TZOFFSETFROM:-0500
TZOFFSETTO:-0400
TZNAME:EDT
DTSTART:20200308T070000
END:DAYLIGHT
BEGIN:STANDARD
TZOFFSETFROM:-0400
TZOFFSETTO:-0500
TZNAME:EST
DTSTART:20201101T060000
END:STANDARD
BEGIN:DAYLIGHT
TZOFFSETFROM:-0500
TZOFFSETTO:-0400
TZNAME:EDT
DTSTART:20210314T070000
END:DAYLIGHT
BEGIN:STANDARD
TZOFFSETFROM:-0400
TZOFFSETTO:-0500
TZNAME:EST
DTSTART:20211107T060000
END:STANDARD
BEGIN:DAYLIGHT
TZOFFSETFROM:-0500
TZOFFSETTO:-0400
TZNAME:EDT
DTSTART:20220313T070000
END:DAYLIGHT
BEGIN:STANDARD
TZOFFSETFROM:-0400
TZOFFSETTO:-0500
TZNAME:EST
DTSTART:20221106T060000
END:STANDARD
BEGIN:DAYLIGHT
TZOFFSETFROM:-0500
TZOFFSETTO:-0400
TZNAME:EDT
DTSTART:20230312T070000
END:DAYLIGHT
BEGIN:STANDARD
TZOFFSETFROM:-0400
TZOFFSETTO:-0500
TZNAME:EST
DTSTART:20231105T060000
END:STANDARD
BEGIN:DAYLIGHT
TZOFFSETFROM:-0500
TZOFFSETTO:-0400
TZNAME:EDT
DTSTART:20240310T070000
END:DAYLIGHT
BEGIN:STANDARD
TZOFFSETFROM:-0400
TZOFFSETTO:-0500
TZNAME:EST
DTSTART:20241103T060000
END:STANDARD
END:VTIMEZONE
BEGIN:VEVENT
DTSTART;TZID=UTC:20251202T140000
DTEND;TZID=UTC:20251206T210000
DTSTAMP:20260423T165327
CREATED:20251116T154831Z
LAST-MODIFIED:20251116T154831Z
UID:10003239-1764684000-1765054800@the-e-list.com
SUMMARY:Holiday Wreath Workshop
DESCRIPTION:Head to the heated barn at Best Buds Flower Farm to create your holiday wreath. They will guide you in creating a beautiful\, lush holiday wreath\, decorated with dried flowers grown at Best Buds. All the local greenery and other supplies are included\, so all you do is show up. And as always\, we will also enjoy wine or seltzer and a homemade sweet treat. \nBest Buds is a small flower farm in Lyme\, located 7 minutes from exit 70 on I-95. In the colder months\, they host events in their barn\, which is also the yoga studio for Red Barn Yoga. The barn has a restroom\, heat and air conditioning. All of the flowers and greenery for their craft workshops are from their farm or sourced locally. \nLearn more.
URL:https://the-e-list.com/event/holiday-wreath-workshop/
LOCATION:Best Buds Flower Farm\, 52 Blood Street\, Lyme\, 06371\, United States
ATTACH;FMTTYPE=image/jpeg:https://the-e-list.com/wp-content/uploads/2025/11/holday-wreath-jpeg-e1763307922417.jpg
END:VEVENT
BEGIN:VEVENT
DTSTART;TZID=UTC:20240529T170000
DTEND;TZID=UTC:20240626T190000
DTSTAMP:20260423T165327
CREATED:20240326T010436Z
LAST-MODIFIED:20240326T010531Z
UID:10002555-1717002000-1719428400@the-e-list.com
SUMMARY:U-Pick Peonies
DESCRIPTION:Head to Best Buds Flower Farm  in Lyme where they grow over 400 peony plants. Peony season is the most beautiful on their farm and we are sure you will be in awe of the hundreds of blooms! These are the peonies that your grandma had in her garden. Freshly cut\, they will have a very long vase life. Multiple dates and times are available to reserve by clicking here. Saturday Sunset times go quickly!
URL:https://the-e-list.com/event/u-pick-peonies/
LOCATION:Best Buds Flower Farm\, 52 Blood Street\, Lyme\, 06371\, United States
ATTACH;FMTTYPE=image/png:https://the-e-list.com/wp-content/uploads/2024/03/Screen-Shot-2024-03-24-at-8.47.33-AM-e1711415065237.png
END:VEVENT
BEGIN:VEVENT
DTSTART;TZID=America/New_York:20231105T150000
DTEND;TZID=America/New_York:20231212T200000
DTSTAMP:20260423T165327
CREATED:20230914T153405Z
LAST-MODIFIED:20230914T153405Z
UID:10002299-1699196400-1702411200@the-e-list.com
SUMMARY:Fall & Holiday Craft Workshops at Best Buds Flower Farm
DESCRIPTION:Best Buds Flower Farm has a lineup of fun Crafternoons at their cozy\, heated barn this fall. Using everlasting flowers grown at Best Buds Flower Farm and with local greenery\, they are offering three workshops for you to explore your creativity: Everlasting Wreath\, Thanksgiving Centerpiece\, Lush Holiday Wreath. No experience necessary\, and Best Buds will help you get a result you LOVE! While you’re there enjoy a complimentary wine or seltzer and a homemade sweet treat! \nClick to reserve your spot!
URL:https://the-e-list.com/event/fall-holiday-craft-workshops-at-best-buds-flower-farm/
LOCATION:Best Buds Flower Farm\, 52 Blood Street\, Lyme\, 06371\, United States
ATTACH;FMTTYPE=image/png:https://the-e-list.com/wp-content/uploads/2023/09/Screen-Shot-2023-09-14-at-7.49.15-AM-e1694720032422.png
END:VEVENT
BEGIN:VEVENT
DTSTART;TZID=America/New_York:20230811T180000
DTEND;TZID=America/New_York:20230824T200000
DTSTAMP:20260423T165327
CREATED:20230807T114713Z
LAST-MODIFIED:20230807T114713Z
UID:10002282-1691776800-1692907200@the-e-list.com
SUMMARY:Arranging Dahlias Workshop at Best Buds Flower Farm
DESCRIPTION:Join us in the amazing flower field for our Arranging Dahlias Workshop. We will harvest dahlias and other summer flowers like zinnias\, sunflowers\, scabiosa\, snapdragons\, celosia and delphinium. All are grown with sustainable\, natural methods at Best Buds. We will also gather greenery and arrange it all in a vase we provide. No experience necessary\, and you can run with your own creative spirit or we can help you get a result you LOVE. \nWe will also enjoy a homemade dessert and complimentary wine or seltzer. Come on your own or come with a friend; we have a very welcoming atmosphere. \nDates: 8/11\, 8/16\, 8/23\, 8/24 \nwww.bestbudsflowerfarm.com/on-farm-workshops \nJoanie Fisler 203-494-1619
URL:https://the-e-list.com/event/arranging-dahlias-workshop-at-best-buds-flower-farm/
LOCATION:Best Buds Flower Farm\, 52 Blood Street\, Lyme\, 06371\, United States
ATTACH;FMTTYPE=image/jpeg:https://the-e-list.com/wp-content/uploads/2023/08/unsplash-image-KSu972ZVzk4-e1690987246105.jpeg
END:VEVENT
BEGIN:VEVENT
DTSTART;VALUE=DATE:20230801
DTEND;VALUE=DATE:20230824
DTSTAMP:20260423T165327
CREATED:20230714T130213Z
LAST-MODIFIED:20230714T130213Z
UID:10002263-1690848000-1692835199@the-e-list.com
SUMMARY:Bouquet & Cabernet at Best Buds Flower Farm
DESCRIPTION:Join us in the field at Best Buds Flower Farm for a flower immersion. We’ll have a tour of the field\, learn how to harvest and arrange\, and enjoy complimentary wine\, seltzer and a homemade dessert. We’ll do a demo of arranging flowers\, and then help you out\, or watch you run free with your creative spirit! No experience necessary\, and there’s guidance to get a result you’ll LOVE! We will have dahlias\, sunflowers\, zinnias\, delphinium\, yarrow\, strawflowers and more! Connect with the amazing flowers at the farm and go home with a large vase arrangement. \nWe are a very welcoming place\, so come on your own or come with a friend! All are welcome. \nClick Here for more information and to reserve your spot.
URL:https://the-e-list.com/event/bouquet-cabernet-at-best-buds-flower-farm/
LOCATION:Best Buds Flower Farm\, 52 Blood Street\, Lyme\, 06371\, United States
ATTACH;FMTTYPE=image/jpeg:https://the-e-list.com/wp-content/uploads/2023/07/mom-and-daughters-bouquet-cab-e1689353771458.jpg
END:VEVENT
BEGIN:VEVENT
DTSTART;VALUE=DATE:20230512
DTEND;VALUE=DATE:20230514
DTSTAMP:20260423T165327
CREATED:20230501T101715Z
LAST-MODIFIED:20230501T101715Z
UID:10002164-1683849600-1684022399@the-e-list.com
SUMMARY:Love is Bloomin' Mother's Day Weekend
DESCRIPTION:Bring Mom & Grandma to Best Buds Flower Farm in Lyme\, CT and pick a fresh\, local bouquet which we will wrap for her to take home. Take photos and enjoy tea and homemade cookies. \n$70 includes flowers\, greenery and refreshments for mom and up to three others who come along. For extra people\, please bring $10 cash for admission. \nClick Here to learn more and to purchase tickets.
URL:https://the-e-list.com/event/love-is-bloomin-mothers-day-weekend/
LOCATION:Best Buds Flower Farm\, 52 Blood Street\, Lyme\, 06371\, United States
ATTACH;FMTTYPE=image/png:https://the-e-list.com/wp-content/uploads/2023/05/ScreenShot2023-03-18at8.44.07PM-e1682949784321.png
END:VEVENT
BEGIN:VEVENT
DTSTART;TZID=America/New_York:20221208T190000
DTEND;TZID=America/New_York:20221208T190000
DTSTAMP:20260423T165327
CREATED:20221130T114224Z
LAST-MODIFIED:20221130T114224Z
UID:10001995-1670526000-1670526000@the-e-list.com
SUMMARY:Holiday Wreath Date Night with Best Buds
DESCRIPTION:Join us in the heated barn at Best Buds for Date Night on Thursday\, December 8th at 7pm. We will guide you in creating a beautiful\, lush holiday wreath\, decorated with dried flowers grown here at Best Buds Flower Farm. All the local greenery and other supplies are included\, so all you do is show up. And of course\, we will also enjoy wine or seltzer and a homemade sweet treat. Registration is per couple and one wreath per couple. Space is limited. \nFor more info & to sign up: bestbudsflowerfarm.com/on-farm-workshops
URL:https://the-e-list.com/event/holiday-wreath-date-night/
LOCATION:Best Buds Flower Farm\, 52 Blood Street\, Lyme\, 06371\, United States
ATTACH;FMTTYPE=image/png:https://the-e-list.com/wp-content/uploads/2022/11/ScreenShot2022-10-12at8.46.06AM-e1669825999391.png
END:VEVENT
BEGIN:VEVENT
DTSTART;VALUE=DATE:20220601
DTEND;VALUE=DATE:20220727
DTSTAMP:20260423T165327
CREATED:20220526T182650Z
LAST-MODIFIED:20220526T182650Z
UID:10001761-1654041600-1658879999@the-e-list.com
SUMMARY:On Farm Workshops at Best Buds Flower Farm
DESCRIPTION:Grab your girlfriends and head to an idyllic flower farm for some fun this summer! Choose one or all of these exciting workshops… \nBouquet & Cabernet $78 \nJoin Joanie at the farm for an evening of harvesting flowers and learning to arrange them in a vase. No experience necessary and we will help you get a result you will love. Plus there will be wine and chocolate! \nWine & Design Workshop $340 \n6 evenings of fun at Best Buds Flower Farm in Lyme with our local\, fresh flowers. After learning about harvesting on a brief farm tour\, Joanie can guide you or you can run free on your own with your creativity as you build your own vase arrangement. Joanie will help you get a result you will LOVE. No experience necessary! And we eat chocolate and drink wine or soft drinks as we go. \nPlaytime Flower Crown $55 \n\nEach participant will create a whimsical flower crown from fresh and/or dried flowers. Maybe it’s for you\, maybe a flower collar for your pet. Ages 14 and up\, or an adult helping a child over 8 can work together on one crown. \n\n\n\n\nVisit bestbudsflowerfarm.com for more info. \n52-1 Blood St.\nLyme\, CT 06371 \njoan@redbarnyoga.com\nCell: 203.494.1619
URL:https://the-e-list.com/event/on-farm-workshops-at-best-buds-flower-farm/
LOCATION:Best Buds Flower Farm\, 52 Blood Street\, Lyme\, 06371\, United States
ATTACH;FMTTYPE=image/png:https://the-e-list.com/wp-content/uploads/2022/05/ScreenShot2022-05-04at1.18.50PM.png
END:VEVENT
BEGIN:VEVENT
DTSTART;VALUE=DATE:20211210
DTEND;VALUE=DATE:20211211
DTSTAMP:20260423T165327
CREATED:20211108T095742Z
LAST-MODIFIED:20211108T095742Z
UID:10001699-1639094400-1639180799@the-e-list.com
SUMMARY:Holiday Wreath-Making Parties at Best Buds Flower Farm\, Lyme
DESCRIPTION:Gather a few friends and join Joanie in the barn at Best Buds Flower Farm for a craft afternoon or evening. Using Best Buds dried flowers and greenery\, you will create a wreath with as much guidance as you want to get a result you love. It can be holiday themed\, or as pictured above. Everything is supplied: the wreath base\, dried flowers\, greenery\, clippers to borrow and homemade sweets and wine! Please bring your own glue gun if you have one. Sale price of $270 is valid until November 12th and includes all your supplies and refreshments for FOUR people. (Regular price is $300.)  Additional participants are $65 each which is paid separately. \nProof of vaccination is required for each participant and masks are optional. This is an adult activity for those 21 and older. Your date is chosen when you add the item to your cart and before payment. Email Joanie with any questions: joan@redbarnyoga.com  \nBook your party here: http://www.redbarnyoga.com/farm-flowers/privateeverlastingwreathparty
URL:https://the-e-list.com/event/holiday-wreath-making-parties-at-best-buds-flower-farm-lyme/
LOCATION:Best Buds Flower Farm\, 52 Blood Street\, Lyme\, 06371\, United States
END:VEVENT
END:VCALENDAR