BEGIN:VCALENDAR
VERSION:2.0
PRODID:-//The E List - ECPv6.15.20//NONSGML v1.0//EN
CALSCALE:GREGORIAN
METHOD:PUBLISH
X-ORIGINAL-URL:https://the-e-list.com
X-WR-CALDESC:Events for The E List
REFRESH-INTERVAL;VALUE=DURATION:PT1H
X-Robots-Tag:noindex
X-PUBLISHED-TTL:PT1H
BEGIN:VTIMEZONE
TZID:UTC
BEGIN:STANDARD
TZOFFSETFROM:+0000
TZOFFSETTO:+0000
TZNAME:UTC
DTSTART:20240101T000000
END:STANDARD
END:VTIMEZONE
BEGIN:VTIMEZONE
TZID:America/New_York
BEGIN:DAYLIGHT
TZOFFSETFROM:-0500
TZOFFSETTO:-0400
TZNAME:EDT
DTSTART:20200308T070000
END:DAYLIGHT
BEGIN:STANDARD
TZOFFSETFROM:-0400
TZOFFSETTO:-0500
TZNAME:EST
DTSTART:20201101T060000
END:STANDARD
BEGIN:DAYLIGHT
TZOFFSETFROM:-0500
TZOFFSETTO:-0400
TZNAME:EDT
DTSTART:20210314T070000
END:DAYLIGHT
BEGIN:STANDARD
TZOFFSETFROM:-0400
TZOFFSETTO:-0500
TZNAME:EST
DTSTART:20211107T060000
END:STANDARD
BEGIN:DAYLIGHT
TZOFFSETFROM:-0500
TZOFFSETTO:-0400
TZNAME:EDT
DTSTART:20220313T070000
END:DAYLIGHT
BEGIN:STANDARD
TZOFFSETFROM:-0400
TZOFFSETTO:-0500
TZNAME:EST
DTSTART:20221106T060000
END:STANDARD
BEGIN:DAYLIGHT
TZOFFSETFROM:-0500
TZOFFSETTO:-0400
TZNAME:EDT
DTSTART:20230312T070000
END:DAYLIGHT
BEGIN:STANDARD
TZOFFSETFROM:-0400
TZOFFSETTO:-0500
TZNAME:EST
DTSTART:20231105T060000
END:STANDARD
BEGIN:DAYLIGHT
TZOFFSETFROM:-0500
TZOFFSETTO:-0400
TZNAME:EDT
DTSTART:20240310T070000
END:DAYLIGHT
BEGIN:STANDARD
TZOFFSETFROM:-0400
TZOFFSETTO:-0500
TZNAME:EST
DTSTART:20241103T060000
END:STANDARD
END:VTIMEZONE
BEGIN:VEVENT
DTSTART;TZID=UTC:20251123T140000
DTEND;TZID=UTC:20251123T153000
DTSTAMP:20260424T012123
CREATED:20251119T181031Z
LAST-MODIFIED:20251119T181438Z
UID:10003249-1763906400-1763911800@the-e-list.com
SUMMARY:FREE concert featuring Decoda\, Musical Masterworks' ensemble-in-residence
DESCRIPTION:Mark your calendars for a Formal Concert & Reception with Decoda at Saint Ann’s Parish in Old Lyme from2:00–3:30 pm. \nFeaturing works by Mozart\, Valerie Coleman\, George Meyer\, and new compositions from shoreline schools.Stay for a light reception to meet the musicians and neighbors. \nFree and open to all — no tickets needed!
URL:https://the-e-list.com/event/free-concert-featuring-decoda-musical-masterworks-ensemble-in-residence/
LOCATION:Saint Ann’s Church\, 82 Shore Road\, Old Lyme\, CT 06371\, 82 Shore Road\, Old Lyme\, 06371
ATTACH;FMTTYPE=image/jpeg:https://the-e-list.com/wp-content/uploads/2025/11/eList-Rotate-2-e1763575828394.jpg
END:VEVENT
BEGIN:VEVENT
DTSTART;VALUE=DATE:20231216
DTEND;VALUE=DATE:20240101
DTSTAMP:20260424T012123
CREATED:20231130T184343Z
LAST-MODIFIED:20231130T184343Z
UID:10002390-1702684800-1704067199@the-e-list.com
SUMMARY:Celebrate the Holidays at Saint Ann's Parish This Christmas
DESCRIPTION:Saint Ann’s Parish in Old Lyme welcomes all to their Christmas Events this month: \nDec.16 ~ Jingle Jam at 10 am ~ Family Sing-Along with Sunny Train\nDec.17 ~ Service of Advent Lessons & Carols at 4:00 pm\nDec.24 ~ Service for Advent at 9:30 am​\nDec.24 ~ Christmas Eve Family Service at 4:00 pm\nDec.24 ~ Christmas Eve Festival Service at 10:00 pm\nDec.25 ~ Christmas Day Service at 9:30 am\nDec.31 ~ Services at 8:30 am and 10:30 am
URL:https://the-e-list.com/event/celebrate-the-holidays-with-st-ann-this-christmas/
LOCATION:Saint Ann’s Church\, 82 Shore Road\, Old Lyme\, CT 06371\, 82 Shore Road\, Old Lyme\, 06371
ATTACH;FMTTYPE=image/png:https://the-e-list.com/wp-content/uploads/2023/11/Screenshot-2023-11-29-at-4.36.30-PM.png
END:VEVENT
BEGIN:VEVENT
DTSTART;TZID=America/New_York:20221218T140000
DTEND;TZID=America/New_York:20221218T153000
DTSTAMP:20260424T012123
CREATED:20221117T173845Z
LAST-MODIFIED:20221117T173845Z
UID:10001983-1671372000-1671377400@the-e-list.com
SUMMARY:Join Musical Masterworks for Creative Chamber Music Concert
DESCRIPTION:Musical Masterworks is bringing a FREE creative chamber music concert to Saint Ann’s in Old Lyme! \nJoin us for a FREE concert to hear the music of Decoda\, an affiliate ensemble of Carnegie Hall. Decoda’s virtuosic musicians will perform creative chamber music – including a world premiere written expressly for this program – drawing from a dynamic continuum of styles\, eras\, and instrumentations. Recent music by Decoda members Evan Premo (double bass) and Brad Balliett (bassoon) will be featured along with arrangements of pieces written by participants in Decoda’s past projects in prisons. We may even hear an arrangement of music from Decoda’s workshops held during Musical Masterworks’ recent Community Engagement residencies in two area schools. \nNo reservation required! \nAbout Decoda\nAs an artist-led collective\, Decoda seeks to create a more compassionate and connected world through music—thoughtfully curating outstanding performances of live chamber music\, facilitating creative community projects\, and training the next generation of musical artists to rethink and reimagine their role in society. \nFor more information visit: musicalmasterworks.org or email: admin@musicalmasterworks.org
URL:https://the-e-list.com/event/creative-chamber-music-concert/
LOCATION:Saint Ann’s Church\, 82 Shore Road\, Old Lyme\, CT 06371\, 82 Shore Road\, Old Lyme\, 06371
ATTACH;FMTTYPE=image/jpeg:https://the-e-list.com/wp-content/uploads/2022/11/St-Ann-MM-01-e1668782850116.jpg
END:VEVENT
BEGIN:VEVENT
DTSTART;TZID=America/New_York:20211210T193000
DTEND;TZID=America/New_York:20211210T210000
DTSTAMP:20260424T012123
CREATED:20211109T165633Z
LAST-MODIFIED:20211109T165633Z
UID:10001709-1639164600-1639170000@the-e-list.com
SUMMARY:The New Consort:  A Christmas Concert
DESCRIPTION:Live@SaintAnn’s is delighted to present the return of The New Consort for its first-ever holiday concert in Connecticut! Join this world-class vocal ensemble\, founded by Lyme native Brian Mummert\, to ring in the season with A Close Harmony Christmas. This enchanting program\, featuring both gems of the holiday canon and fantastic new Christmas classics from the classical\, pop\, and jazz worlds\, is sure to delight music lovers of all ages. Music will include works by Thomas Tallis\, John Rutter\, *NSYNC’s vocal arranger Robin Wiley\, and many more. \n“It’s been a tough couple years for singers\, but we’re so excited to be returning to Saint Ann’s with a program that celebrates so many of the things we love about making music\, and about this magical time of year\,” says Brian Mummert\, The New Consort’s artistic director. “Communal singing is an integral part of what makes us human – in fact\, it evolved as one of our species’ primary ways of building community – so I can’t imagine a better way to bring the community of Connecticut’s music lovers back together as we find our way forward than with a truly special holiday concert.” \nWinners of the American Prize in Chamber Music\, THE NEW CONSORT\, a project-based\, solo-voice ensemble directed by baritone Brian Mummert\, was founded in 2015 and has quickly made embracing contrasts one of its hallmarks. Musical juxtaposition is an integral part of the ensemble’s identity: by drawing diverse works into conversation\, The New Consort attracts new audiences to classical music and encourages them to forge connections with unfamiliar genres of musical expression\, and with the people working in those genres. The ensemble has appeared in venues including Trinity College\, Cambridge; Tippet Rise Art Center; The Walters Art Museum’s First Fridays series; The Bach Store\, an NYC pop-up concert hall; Gotham Early Music Scene’s Midtown Concerts Series; High Hopes’ Music Under the Stars (CT); Spectrum NYC; and at concert halls\, churches\, and schools throughout the Northeast. Members of The New Consort have appeared as soloists and conductors with some of the world’s best-respected ensembles from Carnegie Hall to Kuala Lumpur\, but relish the opportunity that the ensemble presents to collaborate as chamber musicians. Click here for more info! \nA reception will follow the concert.
URL:https://the-e-list.com/event/the-new-consort-a-christmas-concert/
LOCATION:Saint Ann’s Church\, 82 Shore Road\, Old Lyme\, CT 06371\, 82 Shore Road\, Old Lyme\, 06371
ATTACH;FMTTYPE=image/jpeg:https://the-e-list.com/wp-content/uploads/2021/11/New-Consort-Promo-2.jpg
END:VEVENT
END:VCALENDAR