BEGIN:VCALENDAR
VERSION:2.0
PRODID:-//The E List - ECPv6.15.20//NONSGML v1.0//EN
CALSCALE:GREGORIAN
METHOD:PUBLISH
X-WR-CALNAME:The E List
X-ORIGINAL-URL:https://the-e-list.com
X-WR-CALDESC:Events for The E List
REFRESH-INTERVAL;VALUE=DURATION:PT1H
X-Robots-Tag:noindex
X-PUBLISHED-TTL:PT1H
BEGIN:VTIMEZONE
TZID:UTC
BEGIN:STANDARD
TZOFFSETFROM:+0000
TZOFFSETTO:+0000
TZNAME:UTC
DTSTART:20240101T000000
END:STANDARD
END:VTIMEZONE
BEGIN:VEVENT
DTSTART;TZID=UTC:20250913T100000
DTEND;TZID=UTC:20250913T150000
DTSTAMP:20260422T162634
CREATED:20250825T232343Z
LAST-MODIFIED:20250827T174131Z
UID:10003132-1757757600-1757775600@the-e-list.com
SUMMARY:Bees & Birds & Butterflies Oh My!
DESCRIPTION:BEES & BIRDS & BUTTERFLIES OH MY!\n“FREE” EVENT AT SAMUEL SMITH FARMSTEAD \nOn Saturday\, September 13th from 10 am to 3 pm\, Samuel Smith Farmstead will host “Bees & Birds & Butterflies Oh My”. The event for Adults and Children is free\, and will be held at the Farmstead located at 82 Plants Dam Road in East Lyme\, Connecticut. \nThis gathering of informed and educated participants offers an opportunity to learn together about protecting Honey Bees and Birds in our Ecosystem. The following organizations will be present and educate attendees on Honey Bees\, Pollinator Plants\, Wild Birds and also offer helpful ways to invite Mother Nature into our yards and gardens. \nDrew’s Honeybees – Beekeeper Drew Burnett will enlighten you about Local Native Pollinators and how to keep your Plants Fruiting and Reproducing. Drew will also sell Honey and other products related to his Honeybees. \nWild Birds Unlimited Niantic – Information on Fall Birds and Migration will be offered. \nPollinator Pathway East Lyme – Information on Attracting Pollinators will be provided. Activities will include Seed Mud Balls and Microscope View opportunities for Adults & Kids. \nSmith’s Acres – A Selection of Pollinator Friendly Plants will be offered for Sale at the Event. \nOld Ledge Apiaries – Beekeeper Steve Dinsmore will offer his local Honey for sale. \nThe event is free and open to the Public. Donations are greatly appreciated with all proceeds going to fund needed repairs to the historic House and Barn at Samuel Smith Farmstead. For more information\, see www.SamuelSmithFarmstead.org or Contact Lu Leahy at (860) 961 9296.
URL:https://the-e-list.com/event/bees-birds-butterflies-oh-my/
LOCATION:Samuel Smith Farmstead\, 82 Plants Dam Rd.\, East Lyme\, CT\, 06333\, United States
ATTACH;FMTTYPE=image/jpeg:https://the-e-list.com/wp-content/uploads/2025/08/DOWNSIZED-jpeg-of-poster-082225-e1756164219345.jpg
GEO:41.342063;-72.246867
X-APPLE-STRUCTURED-LOCATION;VALUE=URI;X-ADDRESS=Samuel Smith Farmstead 82 Plants Dam Rd. East Lyme CT 06333 United States;X-APPLE-RADIUS=500;X-TITLE=82 Plants Dam Rd.:geo:-72.246867,41.342063
END:VEVENT
END:VCALENDAR