BEGIN:VCALENDAR
VERSION:2.0
PRODID:-//The E List - ECPv6.15.20//NONSGML v1.0//EN
CALSCALE:GREGORIAN
METHOD:PUBLISH
X-WR-CALNAME:The E List
X-ORIGINAL-URL:https://the-e-list.com
X-WR-CALDESC:Events for The E List
REFRESH-INTERVAL;VALUE=DURATION:PT1H
X-Robots-Tag:noindex
X-PUBLISHED-TTL:PT1H
BEGIN:VTIMEZONE
TZID:UTC
BEGIN:STANDARD
TZOFFSETFROM:+0000
TZOFFSETTO:+0000
TZNAME:UTC
DTSTART:20230101T000000
END:STANDARD
END:VTIMEZONE
BEGIN:VTIMEZONE
TZID:America/New_York
BEGIN:DAYLIGHT
TZOFFSETFROM:-0500
TZOFFSETTO:-0400
TZNAME:EDT
DTSTART:20220313T070000
END:DAYLIGHT
BEGIN:STANDARD
TZOFFSETFROM:-0400
TZOFFSETTO:-0500
TZNAME:EST
DTSTART:20221106T060000
END:STANDARD
BEGIN:DAYLIGHT
TZOFFSETFROM:-0500
TZOFFSETTO:-0400
TZNAME:EDT
DTSTART:20230312T070000
END:DAYLIGHT
BEGIN:STANDARD
TZOFFSETFROM:-0400
TZOFFSETTO:-0500
TZNAME:EST
DTSTART:20231105T060000
END:STANDARD
BEGIN:DAYLIGHT
TZOFFSETFROM:-0500
TZOFFSETTO:-0400
TZNAME:EDT
DTSTART:20240310T070000
END:DAYLIGHT
BEGIN:STANDARD
TZOFFSETFROM:-0400
TZOFFSETTO:-0500
TZNAME:EST
DTSTART:20241103T060000
END:STANDARD
END:VTIMEZONE
BEGIN:VEVENT
DTSTART;TZID=UTC:20241017T170000
DTEND;TZID=UTC:20241120T140000
DTSTAMP:20260425T004127
CREATED:20241007T135102Z
LAST-MODIFIED:20241007T210427Z
UID:10002775-1729184400-1732111200@the-e-list.com
SUMMARY:Two Exhibits Celebrating Garden Club of Madison's 100 Year Anniversary
DESCRIPTION:Garden Club of Madison: 1924-2024\nCome Enjoy Two Exhibits Celebrating their 100 Years\nOpening Reception with Special Guest\, Antique Roadshow’s\, Al Katz \nOctober 17\, 2024 : 5:00-7:00 pm\nScranton Public Library\, Madison\, CT \nPalette to Petals: Katz Collection Reimagined\nOctober 17 – October 19 \nPast\, Present and Future Club Exhibit\nOctober 17 – November 20 \nClick for more information.
URL:https://the-e-list.com/event/two-exhibits-celebrating-garden-club-of-madisons-100-year-anniversary/
LOCATION:Scranton Library\, 801 Boston Post Road\, Madison\, CT\, 06443\, United States
ATTACH;FMTTYPE=image/jpeg:https://the-e-list.com/wp-content/uploads/2024/10/GCM-Badger-Poster-8.5x11-v3-date-scaled-e1728309056102.jpg
END:VEVENT
BEGIN:VEVENT
DTSTART;TZID=UTC:20240509T130000
DTEND;TZID=UTC:20240509T150000
DTSTAMP:20260425T004127
CREATED:20240418T175758Z
LAST-MODIFIED:20240419T153517Z
UID:10002583-1715259600-1715266800@the-e-list.com
SUMMARY:A Legacy of Love: Nurturing Peace Through Planning & Organization
DESCRIPTION:Join Erin of Czepiga Daly Pope & Perri law firm\, and Mara from BlueBird Home Organizing as they discuss how estate planning and organization can create peace of mind for you and your loved ones. You will learn the necessary elements of a long-term plan & strategies + practical tips to create an organized home and document system. You are encouraged to attend with an adult child who can share in the planning and implementation of this new information. Please RSVP to nathan@ctseniorlaw.com or 860-357-6361 as space is limited. \n**Disclaimer: This event is neither sponsored nor endorsed by the Scranton Library. **
URL:https://the-e-list.com/event/a-legacy-of-love-nurturing-peace-through-planning-organization/
LOCATION:Scranton Library\, 801 Boston Post Road\, Madison\, CT\, 06443\, United States
ATTACH;FMTTYPE=image/png:https://the-e-list.com/wp-content/uploads/2024/04/Madison-Office-Mothers-Day-Event-Flier--e1713462847837.png
END:VEVENT
BEGIN:VEVENT
DTSTART;TZID=America/New_York:20230301T183000
DTEND;TZID=America/New_York:20230301T193000
DTSTAMP:20260425T004127
CREATED:20230203T090847Z
LAST-MODIFIED:20230203T090847Z
UID:10002047-1677695400-1677699000@the-e-list.com
SUMMARY:The Supreme Six: Women Justices of the Supreme Court
DESCRIPTION:In 1981\, President Ronald Reagan nominated Sandra Day O’Connor to be the first female justice on the U.S. Supreme Court. It would be twelve years before another woman was nominated and confirmed for the Court and that was Justice Ruth Bader Ginsburg. Sixteen years later\, a third female justice\, Justice Sonia Sotomayor\, joined the court. Today\, there are four female justices on the Supreme Court. These six justices all had esteemed legal or judicial careers prior to joining the Court. The Supreme Six followed varied paths to the Court but there are certain commonalities to their experiences as well. \nJoin us on March 1\, 2023 for a conversation about these six remarkable women and their unique histories. \nPlease sign up for this unique event scrantonlibrary.org.
URL:https://the-e-list.com/event/the-supreme-six/
LOCATION:Scranton Library\, 801 Boston Post Road\, Madison\, CT\, 06443\, United States
ATTACH;FMTTYPE=image/jpeg:https://the-e-list.com/wp-content/uploads/2023/02/jackson-e1675432465938.jpeg
END:VEVENT
END:VCALENDAR