BEGIN:VCALENDAR
VERSION:2.0
PRODID:-//The E List - ECPv6.15.20//NONSGML v1.0//EN
CALSCALE:GREGORIAN
METHOD:PUBLISH
X-WR-CALNAME:The E List
X-ORIGINAL-URL:https://the-e-list.com
X-WR-CALDESC:Events for The E List
REFRESH-INTERVAL;VALUE=DURATION:PT1H
X-Robots-Tag:noindex
X-PUBLISHED-TTL:PT1H
BEGIN:VTIMEZONE
TZID:UTC
BEGIN:STANDARD
TZOFFSETFROM:+0000
TZOFFSETTO:+0000
TZNAME:UTC
DTSTART:20230101T000000
END:STANDARD
END:VTIMEZONE
BEGIN:VTIMEZONE
TZID:America/New_York
BEGIN:DAYLIGHT
TZOFFSETFROM:-0500
TZOFFSETTO:-0400
TZNAME:EDT
DTSTART:20220313T070000
END:DAYLIGHT
BEGIN:STANDARD
TZOFFSETFROM:-0400
TZOFFSETTO:-0500
TZNAME:EST
DTSTART:20221106T060000
END:STANDARD
BEGIN:DAYLIGHT
TZOFFSETFROM:-0500
TZOFFSETTO:-0400
TZNAME:EDT
DTSTART:20230312T070000
END:DAYLIGHT
BEGIN:STANDARD
TZOFFSETFROM:-0400
TZOFFSETTO:-0500
TZNAME:EST
DTSTART:20231105T060000
END:STANDARD
BEGIN:DAYLIGHT
TZOFFSETFROM:-0500
TZOFFSETTO:-0400
TZNAME:EDT
DTSTART:20240310T070000
END:DAYLIGHT
BEGIN:STANDARD
TZOFFSETFROM:-0400
TZOFFSETTO:-0500
TZNAME:EST
DTSTART:20241103T060000
END:STANDARD
END:VTIMEZONE
BEGIN:VEVENT
DTSTART;TZID=UTC:20240321T100000
DTEND;TZID=UTC:20240322T113000
DTSTAMP:20260424T105332
CREATED:20240309T004821Z
LAST-MODIFIED:20240313T203106Z
UID:10002533-1711015200-1711107000@the-e-list.com
SUMMARY:Steward Outdoor Day School Open House
DESCRIPTION:Take a tour of Steward Outdoor Day School! See classes in session\, tour the campus\, and talk with teachers. Thursday\, March 21 or Friday\, March 22 at 10:00 – 11:30 am. \nOpen House tour starts at 10:00 am in the Bushy Hill Nature Center at 253 Bushy Hill Rd\, Deep River.\nTo register call 860-767-0848 x117 or email acourcy@comcast.net
URL:https://the-e-list.com/event/steward-outdoor-day-school-open-house-2/
LOCATION:Steward Outdoor Day School\, 253 Bushy Hill Rd.\, Deep River\, CT\, 06416
ATTACH;FMTTYPE=image/png:https://the-e-list.com/wp-content/uploads/2024/03/Middle-School-Open-House-1-e1710361856413.png
END:VEVENT
BEGIN:VEVENT
DTSTART;TZID=America/New_York:20230520T100000
DTEND;TZID=America/New_York:20230520T160000
DTSTAMP:20260424T105332
CREATED:20230515T132207Z
LAST-MODIFIED:20230515T132207Z
UID:10002176-1684576800-1684598400@the-e-list.com
SUMMARY:Steward Outdoor Day School Open House
DESCRIPTION:Steward Outdoor Day School located on 740 acres in Eastern CT is an educational experience for elementary aged students\, engaging learners through a holistic approach with the teachings of nature as our guide. Through play\, exploration\, and discovery\, students will learn and retain  life-long lessons that will help them excel in all aspects of their education and more. Planned\, and the unplanned\, experiences enhance academic lessons and expectations. \nTo register for this Open House call: 860-767-0848 x117 or email: acourcy@stewardoutdoorschool. \nClick Here to find our more about the Steward Outdoor Day School. \nfacebook.com/StewardOutdoorSchool\ninstagram.com/stewardoutdoorschool
URL:https://the-e-list.com/event/steward-outdoor-day-school-open-house/
LOCATION:Steward Outdoor Day School\, 253 Bushy Hill Rd.\, Deep River\, CT\, 06416
ATTACH;FMTTYPE=image/png:https://the-e-list.com/wp-content/uploads/2023/05/Screen-Shot-2023-05-15-at-12.58.03-PM-e1684169976410.png
END:VEVENT
END:VCALENDAR