BEGIN:VCALENDAR
VERSION:2.0
PRODID:-//The E List - ECPv6.15.20//NONSGML v1.0//EN
CALSCALE:GREGORIAN
METHOD:PUBLISH
X-WR-CALNAME:The E List
X-ORIGINAL-URL:https://the-e-list.com
X-WR-CALDESC:Events for The E List
REFRESH-INTERVAL;VALUE=DURATION:PT1H
X-Robots-Tag:noindex
X-PUBLISHED-TTL:PT1H
BEGIN:VTIMEZONE
TZID:UTC
BEGIN:STANDARD
TZOFFSETFROM:+0000
TZOFFSETTO:+0000
TZNAME:UTC
DTSTART:20240101T000000
END:STANDARD
END:VTIMEZONE
BEGIN:VTIMEZONE
TZID:UTC
BEGIN:STANDARD
TZOFFSETFROM:+0000
TZOFFSETTO:+0000
TZNAME:UTC
DTSTART:20240101T000000
END:STANDARD
END:VTIMEZONE
BEGIN:VTIMEZONE
TZID:America/New_York
BEGIN:DAYLIGHT
TZOFFSETFROM:-0500
TZOFFSETTO:-0400
TZNAME:EDT
DTSTART:20200308T070000
END:DAYLIGHT
BEGIN:STANDARD
TZOFFSETFROM:-0400
TZOFFSETTO:-0500
TZNAME:EST
DTSTART:20201101T060000
END:STANDARD
BEGIN:DAYLIGHT
TZOFFSETFROM:-0500
TZOFFSETTO:-0400
TZNAME:EDT
DTSTART:20210314T070000
END:DAYLIGHT
BEGIN:STANDARD
TZOFFSETFROM:-0400
TZOFFSETTO:-0500
TZNAME:EST
DTSTART:20211107T060000
END:STANDARD
BEGIN:DAYLIGHT
TZOFFSETFROM:-0500
TZOFFSETTO:-0400
TZNAME:EDT
DTSTART:20220313T070000
END:DAYLIGHT
BEGIN:STANDARD
TZOFFSETFROM:-0400
TZOFFSETTO:-0500
TZNAME:EST
DTSTART:20221106T060000
END:STANDARD
BEGIN:DAYLIGHT
TZOFFSETFROM:-0500
TZOFFSETTO:-0400
TZNAME:EDT
DTSTART:20230312T070000
END:DAYLIGHT
BEGIN:STANDARD
TZOFFSETFROM:-0400
TZOFFSETTO:-0500
TZNAME:EST
DTSTART:20231105T060000
END:STANDARD
BEGIN:DAYLIGHT
TZOFFSETFROM:-0500
TZOFFSETTO:-0400
TZNAME:EDT
DTSTART:20240310T070000
END:DAYLIGHT
BEGIN:STANDARD
TZOFFSETFROM:-0400
TZOFFSETTO:-0500
TZNAME:EST
DTSTART:20241103T060000
END:STANDARD
END:VTIMEZONE
BEGIN:VEVENT
DTSTART;VALUE=DATE:20250920
DTEND;VALUE=DATE:20250922
DTSTAMP:20260424T074158
CREATED:20250902T102911Z
LAST-MODIFIED:20250902T102911Z
UID:10003142-1758326400-1758499199@the-e-list.com
SUMMARY:The Harvest Celebration You’ve Been Waiting For! 🍷
DESCRIPTION:Stonington Vineyards’ annual Harvest Food & Wine Festival returns on Saturday and Sunday\, September 20–21 from 11am–6pm daily\, and it’s the event of the season you won’t want to miss! \nSpend the weekend sipping our wines (including the newest vintage Rosé)\, enjoying delicious food\, browsing local artisans\, and taking in live music surrounded by vineyard views. \nGuests can indulge in bites from Fire in the Kitchen\, Jayy’s Food Truck\, Garnish & Graze\, and Whoopies N Cream\, then shop artisan creations from favorites like Valomie Boutique\, Roth Jewelry\, Seacoast Alpacas\, and more. The festival stage will feature incredible live performances all weekend! See the lineup here. \nEach ticket includes a keepsake glass\, a glass of wine\, live music\, and full festival amenities. Bring blankets\, chairs\, and small tents for a perfect day at the vineyard. Rain or shine\, this is a celebration not to be missed—get your tickets now!
URL:https://the-e-list.com/event/the-harvest-celebration-youve-been-waiting-for-%f0%9f%8d%b7/
LOCATION:Stonington Vineyards\, 523 Taugwonk Road\, Stonington\, 06378
ATTACH;FMTTYPE=image/jpeg:https://the-e-list.com/wp-content/uploads/2025/09/IMG_2498-2-e1756808725834.jpeg
END:VEVENT
BEGIN:VEVENT
DTSTART;TZID=UTC:20250517T110000
DTEND;TZID=UTC:20250518T170000
DTSTAMP:20260424T074158
CREATED:20250502T201628Z
LAST-MODIFIED:20250505T183858Z
UID:10003018-1747479600-1747587600@the-e-list.com
SUMMARY:Kick-off to Summer Party
DESCRIPTION:Join Stonington Vineyards for their annual kick off to summer on May 17th – 18th! \nCelebrate the start of the season with live music\, vendors\, food\, & wine from 11-5 PM\, daily! Offerings are outdoors\, rain or shine. You may bring your own pop-up tents for your personal use. Outside food is welcome\, but no outside alcohol (besides Stonington Vineyards’ wine) is permitted on property. \nMusic:\nSaturday May 17th – Ben Freiert & Jeff Lewis from 1-4 PM\nSunday May 18th – Big Dawg Isaac from 1-4 PM \nVendors:\nMisty Cove Soap\nCups for a Cause\nValomie Boutique\nMoonchild Scented Creations\nNaturally in the Woods\nDreaming Light Creations\nBewitched of Scituate\nWalking Tree Creations\nMichael & Christine Kelsey \nFood:\nBridge Market Pizza\nSixpenny Oysters\nWhoopies N Cream\nPar 4 (Saturday)\nRustic Streats (Sunday)
URL:https://the-e-list.com/event/kick-off-to-summer-party/
LOCATION:Stonington Vineyards\, 523 Taugwonk Road\, Stonington\, 06378
ATTACH;FMTTYPE=image/png:https://the-e-list.com/wp-content/uploads/2025/05/SV_Elist_04302025-1-e1746216743641.png
END:VEVENT
BEGIN:VEVENT
DTSTART;TZID=America/New_York:20230916T110000
DTEND;TZID=America/New_York:20230917T180000
DTSTAMP:20260424T074159
CREATED:20230906T150107Z
LAST-MODIFIED:20230906T150107Z
UID:10001845-1694862000-1694973600@the-e-list.com
SUMMARY:Harvest Food & Wine Festival
DESCRIPTION:Head over to Stonington Vineyards this weekend to enjoy live bands\, delicious food trucks\, local artisans and more! Their annual Harvest Food & Wine Festival is Saturday and Sunday\, Sept 16-17th from 11am-6pm daily. Enjoy delicious treats from Bake Bake Hooray\, Short Rib Cafe\, Bridge Market Pizza\, and Sixpenny Oysters. \nShop local vendors such as Valomie Boutique\, Salt N Stars Jewelry\, Lisa Maree Designs\, M.MoonChild Scented Creations\, Naturally in the Woods\, Dreaming Light Creations\, Seacoast Alpacas\, Caramel Apple Lady\, Bewitched of Scituate\, Graciela Perrone (Art)\, Mikki’s Custom Tees and Totes\, Home Prep Products\, 2 Waves + the Sun Permanent Jewelry\, and Walking Tree Creations! Plus\, your ticket includes a glass of wine and a keepsake glass to take home. \nYou may bring your own tent\, no larger than 10′ x 10′\, for your use. Please bring lawn chairs\, blankets\, pop-up tents\, etc. for your group to enjoy. \nSaturday:\nLuke & Mike 11am – 2pm\nThe Fake Experience 3pm – 6pm \nSunday:\nBen Freiert/Jeff Lewis 11pm – 2pm\nWicked Peach 3pm – 6pm \nTickets include a glass of wine and keepsake glass\, live music all weekend\, and all event amenities. Offerings are rain or shine. \nOutside food is welcome but NO OUTSIDE ALCOHOL allowed on premises. Fun as a couple\, a family or with a large group of friends! \nClick for tickets!
URL:https://the-e-list.com/event/stonington-vineyards-harvest-food-wine-festival/
LOCATION:Stonington Vineyards\, 523 Taugwonk Road\, Stonington\, 06378
ATTACH;FMTTYPE=image/jpeg:https://the-e-list.com/wp-content/uploads/2023/09/Harvest-Fest.jpg
ORGANIZER;CN="Stonington Vineyards":MAILTO:events@stoningtonvineyards.com
END:VEVENT
BEGIN:VEVENT
DTSTART;TZID=America/New_York:20230520T110000
DTEND;TZID=America/New_York:20230521T170000
DTSTAMP:20260424T074159
CREATED:20230427T110356Z
LAST-MODIFIED:20230427T110356Z
UID:10002159-1684580400-1684688400@the-e-list.com
SUMMARY:Kick-off to Summer Weekend 2023 at Stonington Vineyards
DESCRIPTION:Join us for our annual kick off to summer on May 20th – 21st! \nCome celebrate the start of the season with live music\, vendors\, food\, & wine from 11-5PM\, daily! Offerings are outdoors\, rain or shine\, and no tents are provided. You may bring your own pop-up tents for your personal use. Outside food is welcome\, but no outside alcohol (besides Stonington Vineyards’ wine) is permitted on property. \nTickets are available now and must be purchased for a specific date. Tickets are non-refundable and are valid only for the date you purchased. \n$20 per guest\, includes a glass of wine and keepsake glass to take home. Cellar society is $16 per guest\, but must call the winery at 860.535.1222 to purchase. Children are free with parent\, however must remain with their group due to safety guidelines. Day of tickets are $25 per guest. \nClick Here to purchase tickets and for more information.
URL:https://the-e-list.com/event/kick-off-to-summer-weekend-2023-at-stonington-vineyards/
LOCATION:Stonington Vineyards\, 523 Taugwonk Road\, Stonington\, 06378
ATTACH;FMTTYPE=image/jpeg:https://the-e-list.com/wp-content/uploads/2023/04/343233327_564801825634492_8243215700202158890_n.jpeg
END:VEVENT
BEGIN:VEVENT
DTSTART;TZID=America/New_York:20230209T180000
DTEND;TZID=America/New_York:20230209T200000
DTSTAMP:20260424T074159
CREATED:20230208T084159Z
LAST-MODIFIED:20230208T084159Z
UID:10002066-1675965600-1675972800@the-e-list.com
SUMMARY:LOVE\, Wine & Sweets!
DESCRIPTION:What better way to celebrate LOVE than pairing your favorite wines with delicious treats from SIFT Bakery in Mystic! \nJoin us THIS Thursday\, February 9th from 6 to 8pm for an after-hours event you won’t want to miss! $25/person. \nFor more information and to register for this event Click Here. \nTicket includes the following pairings: \nOak Chardonnay paired with a A.T.Y Confections Vanilla Bean Bonbon\nRiesling paired with a SIFT Coconut Macaron\nCabernet Franc paired with a SIFT Four Way Brownie \n*Pairings include half glasses of each variety
URL:https://the-e-list.com/event/love-wine-sweets/
LOCATION:Stonington Vineyards\, 523 Taugwonk Road\, Stonington\, 06378
ATTACH;FMTTYPE=image/jpeg:https://the-e-list.com/wp-content/uploads/2023/02/SV_Valentines_1080x1080-e1675863280763.jpg
END:VEVENT
BEGIN:VEVENT
DTSTART;TZID=America/New_York:20220917T110000
DTEND;TZID=America/New_York:20220918T180000
DTSTAMP:20260424T074159
CREATED:20220913T114830Z
LAST-MODIFIED:20220913T114830Z
UID:10001907-1663412400-1663524000@the-e-list.com
SUMMARY:Harvest Food & Wine Festival
DESCRIPTION:Come to Stonington Vineyards to enjoy live bands\, delicious food trucks\, local artisans and more! Our annual Harvest Food & Wine Festival is Saturday and Sunday\, September 17th and 18th from 11-6 daily. Tickets are $30 in advance and $35 at the door for a day pass and $50 in advance for a customer favorite two day pass. Tickets include a glass of wine and keepsake glass\, live music all weekend\, and all event amenities.
URL:https://the-e-list.com/event/harvest-food-wine-festival/
LOCATION:Stonington Vineyards\, 523 Taugwonk Road\, Stonington\, 06378
ATTACH;FMTTYPE=image/jpeg:https://the-e-list.com/wp-content/uploads/2022/09/IMG_1844-scaled-e1663084073288.jpeg
END:VEVENT
BEGIN:VEVENT
DTSTART;TZID=America/New_York:20220625T183000
DTEND;TZID=America/New_York:20220625T203000
DTSTAMP:20260424T074159
CREATED:20220622T075210Z
LAST-MODIFIED:20220622T075210Z
UID:10001871-1656181800-1656189000@the-e-list.com
SUMMARY:Eastern CT Symphony Orchestra at Stonington Vineyards
DESCRIPTION:The Eastern Connecticut Symphony Orchestra will once again perform at the Stonington Vineyards this Summer! This concert is a relaxed summer concert with the ECSO Music Director & Conductor\, Toshiyuki Shimada\, and ECSO musicians. Food will be available to purchase onsite\, or you can bring your own picnic to enjoy with a glass of Stonington Vineyards wine in your complimentary signature glass\, and prepare to enjoy an evening of lighter classical music and orchestral pops. Bring a blanket and lawn chairs or whatever you need to experience a great time outdoors\, including a lighter jacket as the sun sets. La Mesa Food Truck will be onsite as well as Walsh Waffle Wagon! \nGet tickets here: https://stoningtonvineyards.com/events/ecso-summer-concert-2022/ \nSaturday\, June 25th from 6:30 to 8:30pm
URL:https://the-e-list.com/event/eastern-ct-symphony-orchestra-at-stonington-vineyards/
LOCATION:Stonington Vineyards\, 523 Taugwonk Road\, Stonington\, 06378
END:VEVENT
BEGIN:VEVENT
DTSTART;TZID=America/New_York:20220521T130000
DTEND;TZID=America/New_York:20220522T160000
DTSTAMP:20260424T074159
CREATED:20220511T135320Z
LAST-MODIFIED:20220511T135320Z
UID:10001840-1653138000-1653235200@the-e-list.com
SUMMARY:Kick-off to Summer Weekend at Stonington Vineyards
DESCRIPTION:Join us for our annual kick off to summer on May 21st – 22nd! \n\nCome celebrate the start of the season with live music\, vendors\, food\, & wine from 11-5PM\, daily! Offerings are OUTDOORS ONLY\, rain or shine\, and no tents are provided. You may bring your own tents for your use as long as you are socially spread out. Outside food is welcome\, but no outside alcohol (besides Stonington Vineyards’ wine) is permitted on property. \nTickets are available now and must be purchased for a specific date. Tickets are non-refundable and are good only for the date you purchased. \n$20 per guest- includes a glass of wine and keepsake glass to take home. Cellar society is $16 per guest but must call the winery at 860.535.1222 to purchase. Children are free with parent\, however must remain with their group due to safety guidelines. If space is available\, we will have day of tickets for $25/person. \nMusic:\nSaturday May 21st – Azalea Drive 1-4PM\nSunday May 22nd – Ben Freiert & Brian 1-4PM \nVendors:\n \n\nDreaming Light Creations\nBewitched of Scituate\nValomie Boutique\nHome Prep Products\nBoomer’s Baked Goods\n\nFood: \n\nSpicy Fusion\nBridge Market Pizza\nPar 4 Curbside Catering\nSixpenny Oysters\n\nGet tickets at https://shop.stoningtonvineyards.com/collections/events/products/kick-off-to-summer-weekend-2022
URL:https://the-e-list.com/event/kick-off-to-summer-weekend-2022/
LOCATION:Stonington Vineyards\, 523 Taugwonk Road\, Stonington\, 06378
ATTACH;FMTTYPE=image/jpeg:https://the-e-list.com/wp-content/uploads/2022/05/SV_Elist_300X250_042022-e1652291500763.jpg
END:VEVENT
BEGIN:VEVENT
DTSTART;TZID=America/New_York:20210918T110000
DTEND;TZID=America/New_York:20210919T183000
DTSTAMP:20260424T074159
CREATED:20210901T145946Z
LAST-MODIFIED:20210901T145946Z
UID:10000731-1631962800-1632076200@the-e-list.com
SUMMARY:Harvest Food & Wine Festival 2021
DESCRIPTION:Come to Stonington Vineyards to enjoy live bands\, delicious food trucks\, local artisans and more!  The annual Harvest Food & Wine Festival is Saturday and Sunday\, September 18th and 19th from 11-6 daily. Due to the number of guests who attend this event\, we will be requiring masks to be worn indoors by ALL individuals regardless of vaccination status. \nTickets are available for $25 in advance for a 1 day pass\, $40 in advance for a 2 day pass\, or $30 at the door for a day pass. Tickets include a glass of wine and keepsake glass\, live music all weekend\, and all event amenities. Offerings are rain or shine and tickets are non-refundable. You may bring your own tent\, no larger than 10′ x 10′\, for your use as well as lawn chairs\, blankets\, pop-ups\, etc. for your group to enjoy. \nOutside food is welcome but NO OUTSIDE ALCOHOL allowed on premises. Fun as a couple\, a family or with a large group of friends! No tickets are mailed. Reservations are held under your name at the door. \nLIVE MUSIC SCHEDULE:\nSaturday 9/18\n11am-2pm Luke & Mike\n3pm-6pm Whisker Fish \nSunday 9/19\n11am-2pm Azalea Drive Duo\n3pm-6pm Wicked Peach \nFOOD VENDORS:\nWalsh Waffle Wagon\, Bridge Market Pizza\, Par 4 Curbside Catering \nLOCAL VENDORS:\nBewitched After Dark\, Valomie Boutique\, Roth Jewelry\, Naturally in the Woods\, Verse Bags\, Home Prep Products\, Amores Jewelry\, Dreaming Light Creations\, New England Fudge Company\, Jeanette Vertendes Art\, John Craig Art\, Crunchy Diva Designs\, Seacoast Alpacas \nThere will be a raffle prize each day. Prize by COG New England.  Purchase a case to automatically be entered! \nPurchase tickets here.
URL:https://the-e-list.com/event/harvest-food-wine-festival-2021/
LOCATION:Stonington Vineyards\, 523 Taugwonk Road\, Stonington\, 06378
END:VEVENT
END:VCALENDAR