BEGIN:VCALENDAR
VERSION:2.0
PRODID:-//The E List - ECPv6.15.20//NONSGML v1.0//EN
CALSCALE:GREGORIAN
METHOD:PUBLISH
X-ORIGINAL-URL:https://the-e-list.com
X-WR-CALDESC:Events for The E List
REFRESH-INTERVAL;VALUE=DURATION:PT1H
X-Robots-Tag:noindex
X-PUBLISHED-TTL:PT1H
BEGIN:VTIMEZONE
TZID:UTC
BEGIN:STANDARD
TZOFFSETFROM:+0000
TZOFFSETTO:+0000
TZNAME:UTC
DTSTART:20240101T000000
END:STANDARD
END:VTIMEZONE
BEGIN:VTIMEZONE
TZID:UTC
BEGIN:STANDARD
TZOFFSETFROM:+0000
TZOFFSETTO:+0000
TZNAME:UTC
DTSTART:20230101T000000
END:STANDARD
END:VTIMEZONE
BEGIN:VEVENT
DTSTART;TZID=UTC:20250721T173000
DTEND;TZID=UTC:20250721T203000
DTSTAMP:20260423T195033
CREATED:20250623T224248Z
LAST-MODIFIED:20250624T000919Z
UID:10003065-1753119000-1753129800@the-e-list.com
SUMMARY:Broadway in the Vines
DESCRIPTION:Join Sunset Hill Vineyard for an unforgettable summer evening as Live & In Color returns  for our annual celebration and fundraiser in support of groundbreaking\, diverse new theatre. \nBROADWAY IN THE VINES brings together friends\, supporters\, and artists for an evening of community\, performance\, and purpose – this year\, with the added excitement of a $10\,000 matching grant to double your impact! \nEvening Schedule:\n5:30 PM: Guest Arrival | Cocktail Hour | Hors d’oeuvres\n6:00 PM: Live Performance featuring the artists of Live & In Color\n7:15 PM: Raffle & Live Auction \nRaffle & Auction Highlights Include: \n• Exclusive Broadway tickets with an overnight stay at Artistic Director Devanand Janki’s apartment\n• A deck party for six at Sunset Hill Vineyard with lunch and drinks (Value: $500–$750)\n• A curated Live & In Color gift basket \nTickets: $25 per guest | Click for tickets. \nAll proceeds support Live & In Color’s mission to develop new stage works that celebrate diversity and bold theatricality\, including our annual artist retreat at the historic Bingham Camp. \nThis is a family-friendly\, relaxed outdoor event – chairs will be provided\, but we encourage guests to bring picnic blankets\, kids\, and good vibes to enjoy the vineyard setting to the fullest! Parking is limited \nPlease note: No dogs allowed – kindly leave furry friends at home. \nParking: Parking is limited\, please try and carpool. Overflow parking at Lawn (78 Bill Hill Road) – shuttle available. \nSpace is limited – Reserve your spot today.  Learn more about Live & In Color and our mission at liveandincolor.org. \nCome raise a glass\, support emerging voices in American theatre\, and help us meet our fundraising goal!
URL:https://the-e-list.com/event/broadway-in-the-vines-202/
LOCATION:Sunset Hill Vineyard\, 5 Ely's Ferry Road\, Lyme\, CT\, 06371\, United States
ATTACH;FMTTYPE=image/jpeg:https://the-e-list.com/wp-content/uploads/2025/06/UKs2qK1AjmStUF3FOAQixBf4b852iqmCtEvzCQxU-e1750718565172.jpg
END:VEVENT
BEGIN:VEVENT
DTSTART;TZID=UTC:20240715T170000
DTEND;TZID=UTC:20240715T200000
DTSTAMP:20260423T195033
CREATED:20240630T210433Z
LAST-MODIFIED:20240630T210455Z
UID:10002661-1721062800-1721073600@the-e-list.com
SUMMARY:Broadway in the Vines: A Tenth Anniversary Celebration for Live & in Color
DESCRIPTION:Celebrate Live and In Color’s 10th year of creating groundbreaking new and diverse theatre for the stage at Sunset Hill Vineyard on 7/15 from 5-8 pm. This event features a raffle\, silent auction\, refreshments\, and entertainment by the artists of Live & in Color. Cocktails start at 5:00 pm and the performance begins at 5:30 pm. \nFeatured performers are: Jackie Leon (Hell’s Kitchen)\, Joan Almedilla (Goodspeed’s South Pacific\, Miss Saigon)\, Alex Humphreys (Goodspeed’s South Pacific\, Dear Evan Hansen)\, Ethan Van Slyke (Goodspeed’s South Pacific\, West Side Story) and Alyssa Sunew (Goodspeed’s South Pacific\, Footloose) with Music Direction by Mark Fifer (Little Girl Blue). \nFounded by Devanand Janki in 2014\, Live & In Color develops new work for the stage that promotes and celebrates diversity\, emphasizing non-traditional casting\, multi-ethnic participants\, and bold theatricality\, The heart of their programming revolves around the development of a new play and musical each year\, culminating in a two-week retreat at the historic Bingham Camp home in Salem\, Connecticut. They bring artists from all over the country to join their creative community and to foster their artistry. \nHelp Live & in Color meet their fundraising goal and matching grant at this memorable Summer evening of music in the beautiful setting of Sunset Hill Vineyard. \nEntrance is free but RSVPs are required\, click to register.
URL:https://the-e-list.com/event/broadway-in-the-vines-a-tenth-anniversary-celebration-for-live-in-color/
LOCATION:Sunset Hill Vineyard\, 5 Ely's Ferry Road\, Lyme\, CT\, 06371\, United States
ATTACH;FMTTYPE=image/png:https://the-e-list.com/wp-content/uploads/2024/06/Ten-years-of-Live-in-Color-1920-x-1080-px-e1719781005440.png
END:VEVENT
END:VCALENDAR