BEGIN:VCALENDAR
VERSION:2.0
PRODID:-//The E List - ECPv6.15.20//NONSGML v1.0//EN
CALSCALE:GREGORIAN
METHOD:PUBLISH
X-ORIGINAL-URL:https://the-e-list.com
X-WR-CALDESC:Events for The E List
REFRESH-INTERVAL;VALUE=DURATION:PT1H
X-Robots-Tag:noindex
X-PUBLISHED-TTL:PT1H
BEGIN:VTIMEZONE
TZID:America/New_York
BEGIN:DAYLIGHT
TZOFFSETFROM:-0500
TZOFFSETTO:-0400
TZNAME:EDT
DTSTART:20200308T070000
END:DAYLIGHT
BEGIN:STANDARD
TZOFFSETFROM:-0400
TZOFFSETTO:-0500
TZNAME:EST
DTSTART:20201101T060000
END:STANDARD
BEGIN:DAYLIGHT
TZOFFSETFROM:-0500
TZOFFSETTO:-0400
TZNAME:EDT
DTSTART:20210314T070000
END:DAYLIGHT
BEGIN:STANDARD
TZOFFSETFROM:-0400
TZOFFSETTO:-0500
TZNAME:EST
DTSTART:20211107T060000
END:STANDARD
BEGIN:DAYLIGHT
TZOFFSETFROM:-0500
TZOFFSETTO:-0400
TZNAME:EDT
DTSTART:20220313T070000
END:DAYLIGHT
BEGIN:STANDARD
TZOFFSETFROM:-0400
TZOFFSETTO:-0500
TZNAME:EST
DTSTART:20221106T060000
END:STANDARD
BEGIN:DAYLIGHT
TZOFFSETFROM:-0500
TZOFFSETTO:-0400
TZNAME:EDT
DTSTART:20230312T070000
END:DAYLIGHT
BEGIN:STANDARD
TZOFFSETFROM:-0400
TZOFFSETTO:-0500
TZNAME:EST
DTSTART:20231105T060000
END:STANDARD
END:VTIMEZONE
BEGIN:VEVENT
DTSTART;TZID=America/New_York:20211231T170000
DTEND;TZID=America/New_York:20220101T170000
DTSTAMP:20260425T163407
CREATED:20211212T095140Z
LAST-MODIFIED:20211212T095140Z
UID:10001718-1640970000-1641056400@the-e-list.com
SUMMARY:A New Year's Overnight at The Copper Beech Inn
DESCRIPTION:Celebrate at the Copper Beech with a spectacular four-course prix fixe dinner\, live music\, champagne toast and a Super Deluxe Room plus breakfast for two.\n\nFind out more:\nhttp://www.copperbeechinn.com/new-years-eve-package.html\n\nPackage Includes:\n\n\nOvernight accommodation in a Super Deluxe Room\n\nFour Course Prix Fixe dinner for two \n\nRing in the New Year with musical entertainment by “Spellbound” from 10 PM – 1AM\n\nChampagne Toast at Midnight\n\nFull Breakfast for Two\n\nLate Check Out\, $625.00 Including All Taxes. Please call the Inn directly to book your spot – 860-767-0330
URL:https://the-e-list.com/event/a-new-years-overnight-at-the-copper-beech-inn/
LOCATION:The Copper Beech Inn\, 46 Main Street\, Ivoryton\, CT\, United States
END:VEVENT
BEGIN:VEVENT
DTSTART;TZID=America/New_York:20210314T100000
DTEND;TZID=America/New_York:20210314T120000
DTSTAMP:20260425T163407
CREATED:20210307T073430Z
LAST-MODIFIED:20210307T073430Z
UID:10000083-1615716000-1615723200@the-e-list.com
SUMMARY:Yoga & Brunch at The Copper Beech Inn
DESCRIPTION:Enjoy a gentle yoga class that will incorporate intention setting and meditation. This beginners friendly class is located in front of a cozy fireplace at the relaxing Copper Beech Inn. After the class\, a delicious meal will be served at the inn’s restaurant which includes a full brunch and mimosa. This spacious location will spread all parties 6ft apart for both the yoga class and brunch. Masks are required upon arrival with a temperature check. Once you are at your mat or table\, you are welcome to take your mask off.\n\nErin Schuster has been teaching Kriplau Yoga and Meditation classes\, workshops\, and retreats since 2012. Erin is part of the Kripalu Yoga faculty team to support the 300HR Yoga Teacher Trainings to build her education and awareness on how to best support the community. Erin believes that yoga is a lifelong journey of self-discovery\, both on and off the mat. For more info on Erin please visit http://shorelinectyoga.com/\n\nPreregistration is required\, contact Erin via email: shorelinectyoga@gmail.com\n$45 includes yoga\, full brunch and mimosa.
URL:https://the-e-list.com/event/yoga-brunch-at-the-copper-beech-inn/
LOCATION:The Copper Beech Inn\, 46 Main Street\, Ivoryton\, CT\, United States
END:VEVENT
END:VCALENDAR