BEGIN:VCALENDAR
VERSION:2.0
PRODID:-//The E List - ECPv6.15.20//NONSGML v1.0//EN
CALSCALE:GREGORIAN
METHOD:PUBLISH
X-WR-CALNAME:The E List
X-ORIGINAL-URL:https://the-e-list.com
X-WR-CALDESC:Events for The E List
REFRESH-INTERVAL;VALUE=DURATION:PT1H
X-Robots-Tag:noindex
X-PUBLISHED-TTL:PT1H
BEGIN:VTIMEZONE
TZID:UTC
BEGIN:STANDARD
TZOFFSETFROM:+0000
TZOFFSETTO:+0000
TZNAME:UTC
DTSTART:20250101T000000
END:STANDARD
END:VTIMEZONE
BEGIN:VEVENT
DTSTART;TZID=UTC:20260503T100000
DTEND;TZID=UTC:20260503T140000
DTSTAMP:20260422T220830
CREATED:20260413T164635Z
LAST-MODIFIED:20260413T164721Z
UID:10003390-1777802400-1777816800@the-e-list.com
SUMMARY:Dudley Farm Community Tag Sale
DESCRIPTION:Come to the Dudley Farm’s annual community tag sale to search for treasures offered by 20+ local vendors\, or book a spot and pass along your own interesting items! Hot dogs\, music\, and fellowship add to the good times. \nTo rent a spot ($20) contact Jerri at 203-457-0047 \nSunday May 3\, 2026 10am – 2pm \nRAIN DATE: May 10th
URL:https://the-e-list.com/event/dudley-farm-community-tag-sale-2/
LOCATION:The Dudley Farm\, 2351 Durham Road\, Guilford\, CT\, 06437\, United States
ATTACH;FMTTYPE=image/jpeg:https://the-e-list.com/wp-content/uploads/2026/04/Tag-Sale-2024-2048x1862-1-e1776098739637.jpeg
END:VEVENT
END:VCALENDAR