BEGIN:VCALENDAR
VERSION:2.0
PRODID:-//The E List - ECPv6.15.20//NONSGML v1.0//EN
CALSCALE:GREGORIAN
METHOD:PUBLISH
X-WR-CALNAME:The E List
X-ORIGINAL-URL:https://the-e-list.com
X-WR-CALDESC:Events for The E List
REFRESH-INTERVAL;VALUE=DURATION:PT1H
X-Robots-Tag:noindex
X-PUBLISHED-TTL:PT1H
BEGIN:VTIMEZONE
TZID:UTC
BEGIN:STANDARD
TZOFFSETFROM:+0000
TZOFFSETTO:+0000
TZNAME:UTC
DTSTART:20250101T000000
END:STANDARD
END:VTIMEZONE
BEGIN:VEVENT
DTSTART;TZID=UTC:20260322T160000
DTEND;TZID=UTC:20260322T170000
DTSTAMP:20260420T085731
CREATED:20260302T155628Z
LAST-MODIFIED:20260302T155628Z
UID:10003336-1774195200-1774198800@the-e-list.com
SUMMARY:A Postcard History of Madison in the Twentieth Century
DESCRIPTION:The Madison Historical Society continues its 2026 Frederick Lee Lecture series on March 22nd with a discussion by Henry Griggs (Madison Municipal Historian and MHS Preservation Chair) about the Postcard History of Madison in the Twentieth Century. Henry’s presentation will highlight the Golden Age of Postcards\, Madison then and now\, postcards for commerce\, and images of Lost Madison. Guests will enjoy dozens of images from his personal collection of more than 900 postcards. \nLocation: In-person at the First Congregational Church’s Hubley Hall and via Zoom\nFor in-person attendance\, advance registration is not required. Click here to register for Zoom attendance. \nSuggested Donation $10 / MHS Members free
URL:https://the-e-list.com/event/a-postcard-history-of-madison-in-the-twentieth-century/
LOCATION:The First Congregational Church of Madison\, 26 Meetinghouse Lane\, Madison\, CT\, 06443\, United States
ATTACH;FMTTYPE=image/jpeg:https://the-e-list.com/wp-content/uploads/2026/03/logo-blue-180px.jpg
ORGANIZER;CN="Madison Historical Society":MAILTO:contact@madisonhistory.org
GEO:41.279243;-72.6017108
X-APPLE-STRUCTURED-LOCATION;VALUE=URI;X-ADDRESS=The First Congregational Church of Madison 26 Meetinghouse Lane Madison CT 06443 United States;X-APPLE-RADIUS=500;X-TITLE=26 Meetinghouse Lane:geo:-72.6017108,41.279243
END:VEVENT
END:VCALENDAR