BEGIN:VCALENDAR
VERSION:2.0
PRODID:-//The E List - ECPv6.15.20//NONSGML v1.0//EN
CALSCALE:GREGORIAN
METHOD:PUBLISH
X-WR-CALNAME:The E List
X-ORIGINAL-URL:https://the-e-list.com
X-WR-CALDESC:Events for The E List
REFRESH-INTERVAL;VALUE=DURATION:PT1H
X-Robots-Tag:noindex
X-PUBLISHED-TTL:PT1H
BEGIN:VTIMEZONE
TZID:UTC
BEGIN:STANDARD
TZOFFSETFROM:+0000
TZOFFSETTO:+0000
TZNAME:UTC
DTSTART:20230101T000000
END:STANDARD
END:VTIMEZONE
BEGIN:VTIMEZONE
TZID:UTC
BEGIN:STANDARD
TZOFFSETFROM:+0000
TZOFFSETTO:+0000
TZNAME:UTC
DTSTART:20230101T000000
END:STANDARD
END:VTIMEZONE
BEGIN:VTIMEZONE
TZID:America/New_York
BEGIN:DAYLIGHT
TZOFFSETFROM:-0500
TZOFFSETTO:-0400
TZNAME:EDT
DTSTART:20220313T070000
END:DAYLIGHT
BEGIN:STANDARD
TZOFFSETFROM:-0400
TZOFFSETTO:-0500
TZNAME:EST
DTSTART:20221106T060000
END:STANDARD
BEGIN:DAYLIGHT
TZOFFSETFROM:-0500
TZOFFSETTO:-0400
TZNAME:EDT
DTSTART:20230312T070000
END:DAYLIGHT
BEGIN:STANDARD
TZOFFSETFROM:-0400
TZOFFSETTO:-0500
TZNAME:EST
DTSTART:20231105T060000
END:STANDARD
BEGIN:DAYLIGHT
TZOFFSETFROM:-0500
TZOFFSETTO:-0400
TZNAME:EDT
DTSTART:20240310T070000
END:DAYLIGHT
BEGIN:STANDARD
TZOFFSETFROM:-0400
TZOFFSETTO:-0500
TZNAME:EST
DTSTART:20241103T060000
END:STANDARD
END:VTIMEZONE
BEGIN:VEVENT
DTSTART;TZID=UTC:20260325T173000
DTEND;TZID=UTC:20260325T193000
DTSTAMP:20260423T045814
CREATED:20260313T134917Z
LAST-MODIFIED:20260313T135015Z
UID:10003345-1774459800-1774467000@the-e-list.com
SUMMARY:SECWAC Presents “The Third Gulf War”
DESCRIPTION:Eric Fleury\, Ph.D.\, on “The Third Gulf War” \nWednesday 3/25/2026 \nReception: 5:30pm | Presentation 6:00pm \n“The Third Gulf War” \nThe United States is once again at war in the Middle East. At this moment\, it is uncertain if it will be a relatively short and decisive conflict like the First Gulf War\, or a painful and drawn-out quagmire like the Second. Professor Eric Fleury of Connecticut College will discuss the origins of the conflict\, evaluate the strategies of the various players\, and address its likely consequences for both the short and the long term. \nWho: Eric Fleury\, Ph.D.\, Associate Professor of Government and International Relations\, Connecticut College \nWhen: Wednesday March 25\, 2026 | Reception: 5:30pm | Presentation: 6:00pm \nWhere: First Congregational Church of Old Lyme \nNon-Members $20 | Register Here \nAbout the Presenter: \nEric Fleury’s work lies at the intersection of international relations and political theory. He examines how contemporary topics build upon foundational concepts of diplomacy and warfare\, with a particular interest in how leaders both shape and are shaped by public opinion in times of crisis. His first book\, On Absolute War: Terrorism and the Logic of Armed Conflict\, examines how terrorism both affirms and modifies the classic maxim of Carl von Clausewitz\, “war is merely the continuation of policy by other means.” Prof. Fleury’s current book project focuses on the breakdown of the so-called ‘liberal international order’ as the guiding concept of U.S. foreign policy. Drawing on Alexis de Tocqueville’s Democracy in America\, he shows how the very effort to understand foreign policy as the expression of a singular ideology is in fact the byproduct of a tug-of-war between public opinion and the bureaucracy\, and that the current crisis is best understood as the failure to achieve a consensus within either body.
URL:https://the-e-list.com/event/secwac-presents-the-third-gulf-war/
LOCATION:The First Congregational Church of Old Lyme\, 2 Ferry Road\, Old Lyme\, CT\, 06371\, United States
ATTACH;FMTTYPE=image/jpeg:https://the-e-list.com/wp-content/uploads/2021/10/SECWAC-logo-01-1-e1773409805330.jpg
END:VEVENT
BEGIN:VEVENT
DTSTART;TZID=UTC:20260314T170000
DTEND;TZID=UTC:20260315T150000
DTSTAMP:20260423T045814
CREATED:20260211T160921Z
LAST-MODIFIED:20260211T160921Z
UID:10003312-1773507600-1773586800@the-e-list.com
SUMMARY:Musical Masterworks Explores The Sacred and the Profane in a Powerful March Program
DESCRIPTION:Musical Masterworks presents The Sacred and the Profane\, a striking chamber music program led by Artistic Director Tessa Lark\, on Saturday\, March 14 at 5:00pm and Sunday\, March 15 at 3:00pm at the First Congregational Church in Old Lyme. Pre-concert talks with the artists will be featured 45 minutes prior to each performance. \nThe program traces a compelling arc across centuries\, exploring the tension between devotion and desire\, ritual and rebellion\, light and darkness. Joining Lark are harpist Bridget Kibbey\, violinist Chad Hoopes\, violist Matthew Lipman\, and cellist Mihai Marica\, an ensemble renowned for both virtuosity and deep musical rapport.\nHighlights include Debussy’s luminous Danses sacrée et profane\, Bach’s iconic Toccata and Fugue in D minor in a riveting arrangement for solo harp\, Britten’s introspective Lachrymae\, and John Dowland’s timeless lament Flow My Tears. The program also features works by Henriette Renié and Heinrich Ignaz Franz von Biber\, alongside Bridget Kibbey’s own Bards and Griots. \nThe concert concludes with André Caplet’s The Mask of the Red Death\, inspired by Edgar Allan Poe\, bringing dramatic intensity and theatrical color to a program that invites listeners to confront music’s most profound emotional contrasts. \nMusical Masterworks continues its tradition of presenting world-class chamber music in an intimate setting that fosters connection between artists and audience. \nClick for tickets!
URL:https://the-e-list.com/event/musical-masterworks-explores-the-sacred-and-the-profane-in-a-powerful-march-program/
LOCATION:The First Congregational Church of Old Lyme\, 2 Ferry Road\, Old Lyme\, CT\, 06371\, United States
ATTACH;FMTTYPE=image/jpeg:https://the-e-list.com/wp-content/uploads/2026/02/March-2026-concert-e1770826157904.jpg
END:VEVENT
BEGIN:VEVENT
DTSTART;TZID=UTC:20260207T170000
DTEND;TZID=UTC:20260208T150000
DTSTAMP:20260423T045814
CREATED:20260116T155015Z
LAST-MODIFIED:20260119T224404Z
UID:10003286-1770483600-1770562800@the-e-list.com
SUMMARY:Musical Masterworks presents Mike Block\, Jeffrey Kahane\, and Tessa Lark in February Concerts
DESCRIPTION:Musical Masterworks continues its 2025–26 season with an exceptional weekend of chamber music on February 7 and 8\, 2026\, at the First Congregational Church of Old Lyme. \nThe concerts feature acclaimed cellist Mike Block\, renowned pianist Jeffrey Kahane\, and Musical Masterworks Artistic Director Tessa Lark\, violin. Together\, the trio brings extraordinary artistry\, depth\, and musical conversation to the intimate chamber setting. \nArtistic Director Tessa Lark remarked “In February\, I will join forces with pianist Jeffrey Kahane and cellist Mike Block for a concert that promises a rich mix of virtuosity\, heart\, and creativity\, sharing music that speaks with warmth\, spontaneity\, and expressive depth.” \nPerformances take place Saturday\, February 7 at 5:00 PM and Sunday\, February 8 at 3:00 PM. The First Congregational Church of Old Lyme offers a warm acoustic and close connection between performers and audience\, making it an ideal venue for chamber music. \nMusical Masterworks 35th season runs from October 2025 – April 2026 at the First Congregational Church of Old Lyme at 4 Lyme Street. Click here to purchase: mini-subscriptions ($115 each)\, individual tickets ($45 each)\, or student tickets ($5 each) or email admin@musicalmasterworks.org.
URL:https://the-e-list.com/event/musical-masterworks-presents-mike-block-jeffrey-kahane-and-tessa-lark-in-february-concerts/
LOCATION:The First Congregational Church of Old Lyme\, 2 Ferry Road\, Old Lyme\, CT\, 06371\, United States
ATTACH;FMTTYPE=image/jpeg:https://the-e-list.com/wp-content/uploads/2026/01/Feb-2026-concert-e1768578522889.jpg
END:VEVENT
BEGIN:VEVENT
DTSTART;TZID=UTC:20251216T173000
DTEND;TZID=UTC:20251216T190000
DTSTAMP:20260423T045814
CREATED:20251211T155517Z
LAST-MODIFIED:20251211T155517Z
UID:10003272-1765906200-1765911600@the-e-list.com
SUMMARY:SECWAC presents: Gregory Ramm on “A Complex Crisis in the Democratic Republic of the Congo\, 30 Years On”
DESCRIPTION:A Complex Crisis in the Democratic Republic of the Congo\, 30 Years On\nGrounded in his experience living in a village as a Peace Corps Volunteer teacher in Mobotu’s Zaire\, Greg will describe the current political and humanitarian crisis in the Democratic Republic of the Congo. Through the lens of humanitarian\, development\, and rights-based organizations such as Save the Children\, Greg will talk about the various conflicts affecting the DRC and the type of humanitarian response that is possible – and desperately needed by millions of Congolese directly affected by the crises. Greg will also touch on education and climate-related initiatives that offer hope for the Congo and the importance of the DRC for a peaceful\, prosperous world. \nWho: Greg Ramm\, Country Director for Save the Children in the Democratic Republic of the Congo \nWhen: Tuesday December 16\, 2025 | Reception: 5:30pm | Presentation: 6:00pm \nWhere: First Congregational Church of Old Lyme \nAbout the Speaker: \nGreg Ramm is the Country Director for Save the Children in the Democratic Republic of Congo (DRC)\, and a member of the DRC’s Humanitarian Country Team. He has over 30 years of experience in humanitarian and development issues\, with a strong focus on Africa. He opened Save the Children’s first office in Kinshasa in 1998. Since then\, Greg has held various key positions including Country Director in Ghana and Regional Director for West and Central Africa. In 2014\, Greg led the Save the Children response to the Ebola crisis in Liberia. He also served as Global Program Director in London and held key leadership positions at Save the Children in Washington\, DC\, including Vice President for Humanitarian Response and Associate Vice President for International Programs focused on Child Protection and HIV/AIDS. He served as a member of the UN’s IASC Emergency Directors Group from 2016 to 2020. Greg served as a Peace Corps Volunteer teaching high school math and physics in the DRC (then Zaire). \nTickets are $20\, click to purchase.
URL:https://the-e-list.com/event/secwac-presents-gregory-ramm-on-a-complex-crisis-in-the-democratic-republic-of-the-congo-30-years-on/
LOCATION:The First Congregational Church of Old Lyme\, 2 Ferry Road\, Old Lyme\, CT\, 06371\, United States
ATTACH;FMTTYPE=image/jpeg:https://the-e-list.com/wp-content/uploads/2025/12/IMG_4455-768x576-1-e1765468511335.jpeg
END:VEVENT
BEGIN:VEVENT
DTSTART;TZID=UTC:20251206T170000
DTEND;TZID=UTC:20251207T150000
DTSTAMP:20260423T045814
CREATED:20251119T175908Z
LAST-MODIFIED:20251119T175918Z
UID:10003247-1765040400-1765119600@the-e-list.com
SUMMARY:Musical Masterworks presents Edgar Meyer and Amy Yang
DESCRIPTION:Musical Masterworks continues its 35th anniversary season with two exceptional performances on December 6 and 7\, headlined by legendary bassist and composer Edgar Meyer alongside acclaimed pianist Amy Yang. Their program will span duos from the Classical era to today\, including original works and arrangements by Meyer himself. \nPerformances:\nSaturday\, December 6\, 2025 – 5:00 PM\nSunday\, December 7\, 2025 – 3:00 PM\nFirst Congregational Church of Old Lyme \nMeyer is celebrated for his unparalleled virtuosity and musical versatility\, traversing classical\, bluegrass\, and contemporary genres with ease. His collaborations have included luminaries such as Yo-Yo Ma\, Joshua Bell\, and Béla Fleck. For this program\, Meyer is crafting a one-of-a-kind musical journey shaped in real time that will provide the audience with an unforgettable experience. \n 
URL:https://the-e-list.com/event/musical-masterworks-presents-edgar-meyer-and-amy-yang/
LOCATION:The First Congregational Church of Old Lyme\, 2 Ferry Road\, Old Lyme\, CT\, 06371\, United States
ATTACH;FMTTYPE=image/jpeg:https://the-e-list.com/wp-content/uploads/2025/11/Dec-2025-concert-e1763575071241.jpg
END:VEVENT
BEGIN:VEVENT
DTSTART;TZID=UTC:20251004T170000
DTEND;TZID=UTC:20251005T150000
DTSTAMP:20260423T045814
CREATED:20250829T184220Z
LAST-MODIFIED:20250829T184305Z
UID:10003140-1759597200-1759676400@the-e-list.com
SUMMARY:Musical Masterworks Opens their 35th Season
DESCRIPTION:Musical Masterworks is pleased to announce its 35th Season at the First Congregational Church of Old Lyme with their opening concert weekend October 4 and 5\, 2025 featuring violinist Tessa Lark in her fourth year as Artistic Director. \nThe 35th season launches with a powerhouse ensemble featuring pianist Inon Barnatan\, violist Hsin-Yun Huang\, cellist Efe Baltacigil\, double bassist Tim Cobb and Artistic Director Tessa Lark. The program pairs Schubert treasures including the beloved Trout Quintet and the poignant Arpeggione Sonata with Lark’s own Appalachian Fantasy\, blending timeless classics and contemporary brilliance. \n“This season\, I’m drawn to music that feels deeply personal\, exploring the sublime worlds of specific composers and sharing the places I love most. I hope these programs invite our concertgoers to linger\, discover\, and experience something new and meaningful along the way\,“ said Tessa Lark. \nMusical Masterworks 35th season runs from October 2025 – April 2026 at the First Congregational Church of Old Lyme at 4 Lyme Street. Click to purchase subscriptions ($175 each)\, mini-subscriptions ($115 each)\, individual tickets ($45 each)\, or student tickets ($5 each).
URL:https://the-e-list.com/event/musical-masterworks-opens-their-35th-season/
LOCATION:The First Congregational Church of Old Lyme\, 2 Ferry Road\, Old Lyme\, CT\, 06371\, United States
ATTACH;FMTTYPE=image/jpeg:https://the-e-list.com/wp-content/uploads/2025/08/Oct-2025-concert-e1756492842567.jpg
END:VEVENT
BEGIN:VEVENT
DTSTART;TZID=UTC:20250711T090000
DTEND;TZID=UTC:20250712T140000
DTSTAMP:20260423T045814
CREATED:20250630T220145Z
LAST-MODIFIED:20250630T220145Z
UID:10003080-1752224400-1752328800@the-e-list.com
SUMMARY:White Elephant Sale at the First Congregational Church of Old Lyme
DESCRIPTION:Friday\, July 11\, 9 a.m.-2 p.m.\nSaturday\, July 12\, 8 a.m.-noon \nEvery year  The Benevolent Society (TBS) holds its mammoth White Elephant Sale on the grounds of the First Congregational Church of Old Lyme. This is a huge fund raiser that began in 1936 and grows in size every year\, allowing the TBS to fund more than 25 nonprofit organizations across our region and around the world! Treasure hunters love this sale! \nOn the Friday morning of the sale\, a crowd gathers early outside the ropes surrounding the church\, waiting for the clock in the bell tower to strike nine. When it does\, the ropes come down and shoppers head for their favorite sale departments in search of hidden treasures. On Saturday morning\, the sale continues – and most everything is half off. \nVolunteers sell coffee and doughnuts both days (raising additional funds for charity). On Friday\, the food court is open for lunch\, featuring hot dogs\, chili\, homemade salads and desserts to help keep shoppers refreshed.
URL:https://the-e-list.com/event/white-elephant-sale-at-the-first-congregational-church-of-old-lyme/
LOCATION:The First Congregational Church of Old Lyme\, 2 Ferry Road\, Old Lyme\, CT\, 06371\, United States
END:VEVENT
BEGIN:VEVENT
DTSTART;TZID=UTC:20250426T170000
DTEND;TZID=UTC:20250427T150000
DTSTAMP:20260423T045814
CREATED:20250423T163443Z
LAST-MODIFIED:20250423T163530Z
UID:10003002-1745686800-1745766000@the-e-list.com
SUMMARY:Musical Masterworks' Season 34 Finale Features Caleb Hudson and Triple Cortado
DESCRIPTION:Musical Masterworks will close out their 34th season with a grand finale like no other\, as renowned trumpeter Caleb Hudson returns to the stage at the First Congregational Church of Old Lyme on April 26th at 5pm and 27th at 3pm. Under the artistic direction of acclaimed violinist Tessa Lark\, the concert promises an unforgettable blend of classical genius and innovative arrangements. \nHudson will lead his bold new ensemble\, Triple Cortado\, in a dynamic reimagining of classic works. This trio of trumpet\, trombone\, and piano will surprise and captivate you with their fresh take on beloved repertoire\, including an unexpected yet thrilling arrangement of Felix Mendelssohn’s Trio No. 1 in D minor\, Op. 49. With a nod to an age-old tradition of transforming music for different ensembles\, Triple Cortado dares to make the familiar feel brand new. \nThe performance will also feature Johann Strauss’ lively “Die Fledermaus” Overture\, and selections from Leonard Bernstein’s iconic “West Side Story\,”offering a delightful fusion of classical\, operatic\, and Broadway influences. Additionally\, the program will highlight works by composers such as the Brazilian legend Pixinguinha and the virtuosic Pablo de Sarasate. \nClick for tickets!
URL:https://the-e-list.com/event/musical-masterworks-season-34-finale-featuring-caleb-hudson-and-triple-cortado/
LOCATION:The First Congregational Church of Old Lyme\, 2 Ferry Road\, Old Lyme\, CT\, 06371\, United States
ATTACH;FMTTYPE=image/jpeg:https://the-e-list.com/wp-content/uploads/2025/04/Triple-Cortado-Insta-1080-x-1350-scaled-e1745426018523.jpg
END:VEVENT
BEGIN:VEVENT
DTSTART;TZID=UTC:20241207T170000
DTEND;TZID=UTC:20241208T150000
DTSTAMP:20260423T045814
CREATED:20241031T005928Z
LAST-MODIFIED:20241031T010012Z
UID:10002806-1733590800-1733670000@the-e-list.com
SUMMARY:Musical Masterworks Welcomes Back Edward Arron for their December Concerts
DESCRIPTION:Musical Masterworks’ main concert series continues December 7th and 8th at the First Congregational Church of Old Lyme. Artistic Director Tessa Lark will join a trio of longtime Masterworks favorites. It doesn’t get better than pianist Gilles Vonsattel and violinist/violist Arnaud Sussman\, except for when you add to the mix Edward Arron\, cellist and previous Artistic Director of Musical Masterworks\, whom Charles Wadsworth brilliantly brought into the MM family fold years ago. \nSaturday\, December 7\, 2024 at 5pm\nSunday\, December 8\, 2024 at 3pm\nAt the First Congregational Church of Old Lyme\n4 Lyme Street in Old Lyme \nArtists\nGilles Vonsattel\, piano\nArnaud Sussmann\, violin/viola\nEdward Arron\, cello\nTessa Lark\, violin \nProgram\nVarious chamber works culminate in a transcendent performance of Beethoven\, Trio in E-flat Major\, Op. 70 No. 2 \nClick for Tickets: $45 General | $5 Students over 12 years old\n860-434-2252 | https://musicalmasterworks.org/
URL:https://the-e-list.com/event/musical-masterworks-welcomes-back-edward-arron-for-their-december-concerts/
LOCATION:The First Congregational Church of Old Lyme\, 2 Ferry Road\, Old Lyme\, CT\, 06371\, United States
ATTACH;FMTTYPE=image/jpeg:https://the-e-list.com/wp-content/uploads/2024/10/Dec-2024-concert-e1730335029622.jpg
END:VEVENT
BEGIN:VEVENT
DTSTART;TZID=UTC:20241012T170000
DTEND;TZID=UTC:20241013T150000
DTSTAMP:20260423T045814
CREATED:20240821T201457Z
LAST-MODIFIED:20240821T201457Z
UID:10002715-1728752400-1728831600@the-e-list.com
SUMMARY:Musical Masterworks Season Opener
DESCRIPTION:This year’s season opener circles back to the operatic seedlings of Musical Masterworks\, featuring beloved arias and two of the greatest young vocalists of today: soprano Marquita Richardson and mezzo soprano Sarah Saturnino. After his rousing MMModern performance in March 2024\, bassist/vocalist/everythingist Nathan Farrington makes his mainstage debut alongside Marquita\, Sarah\, along with Artistic Director Tessa Lark and pianist-composer phenom Roman Rabinovich\, to present older masterworks and newer favorites that Nathan has arranged specially for our series. \nClick for tickets or a season subscription.
URL:https://the-e-list.com/event/musical-masterworks-season-opener/
LOCATION:The First Congregational Church of Old Lyme\, 2 Ferry Road\, Old Lyme\, CT\, 06371\, United States
ATTACH;FMTTYPE=image/jpeg:https://the-e-list.com/wp-content/uploads/2024/08/Oct-2024-concert-e1724271138698.jpg
END:VEVENT
BEGIN:VEVENT
DTSTART;TZID=UTC:20240203T170000
DTEND;TZID=UTC:20240204T150000
DTSTAMP:20260423T045814
CREATED:20240105T150706Z
LAST-MODIFIED:20240106T170633Z
UID:10002429-1706979600-1707058800@the-e-list.com
SUMMARY:Musical Masterworks features Trumpeter Caleb Hudson in February
DESCRIPTION:Musical Masterworks is pleased to announce its first concert weekend of 2024 on February 3rd and 4th at the First Congregational Church of Old Lyme. \nThe great young American trumpeter\, Caleb Hudson\, who happens to be a childhood friend of Artistic Director\, Tessa Lark\, will be featured in works for a rarely heard ensemble of instruments\, played by equally astounding artists: cellist Michael Nicolas of Brooklyn Rider; flutist and vocalist Emi Ferguson; and clarinetist Gabriel Campos Zamora. \nFeatured composers include Corelli\, Hudson\, Le Boeuf\, Athayde and a selection of works composed and arranged by the performing artists. \nClick for more information and to purchase tickets. \nMusical Masterworks 33rd season runs from October 2023 – April 2024 at the First Congregational Church of Old Lyme at 4 Lyme Street. To purchase mini-subscriptions ($115 each)\, individual tickets ($45 each)\, or student tickets ($5 each)\, visit Musical Masterworks at www.musicalmasterworks.org or email admin@musicalmasterworks.org.
URL:https://the-e-list.com/event/musical-masterworks-features-trumpeter-caleb-hudson/
LOCATION:The First Congregational Church of Old Lyme\, 2 Ferry Road\, Old Lyme\, CT\, 06371\, United States
ATTACH;FMTTYPE=image/jpeg:https://the-e-list.com/wp-content/uploads/2024/01/Fe-2024-Concert-Ad-V2-e1704467476797.jpg
END:VEVENT
BEGIN:VEVENT
DTSTART;VALUE=DATE:20230714
DTEND;VALUE=DATE:20230716
DTSTAMP:20260423T045814
CREATED:20230621T122040Z
LAST-MODIFIED:20230621T122040Z
UID:10002215-1689292800-1689465599@the-e-list.com
SUMMARY:White Elephant Sale 2023
DESCRIPTION:Every year\, on a weekend in early July\, the Ladies Benevolent Society (LBS) holds its White Elephant Sale (WES) on the grounds of the First Congregational Church of Old Lyme. This is a huge fundraiser that grows in size every year\, allowing the LBS to fund more than 25 nonprofit organizations across our region and around the world. The popular annual sale began in 1936; the only years the sale was not held were 2020 and 2021\, due to the coronavirus pandemic. \nThe White Elephant Sale (WES) is one of the major annual events that appears on the church’s and town’s calendar. While there are other garage and rummage sales held by other organizations throughout the year\, few can match the size\, color\, camaraderie and excitement of this one. Residents and visitors will often plan their summer vacations around it. \nFriday\, July 14\, 9  -2 p.m.\nSaturday\, July 15\, 8 – 12pm \n*Intake Days: 6/29. 6/30\, 7/1\, 7/5\, 7/6\, 7/7 \nClick Here to find everything you need to know about this incredible sale. \n 
URL:https://the-e-list.com/event/white-elephant-sale-2023/
LOCATION:The First Congregational Church of Old Lyme\, 2 Ferry Road\, Old Lyme\, CT\, 06371\, United States
ATTACH;FMTTYPE=image/jpeg:https://the-e-list.com/wp-content/uploads/2023/06/DSC_0289-scaled-e1687364280140.jpeg
END:VEVENT
BEGIN:VEVENT
DTSTART;TZID=America/New_York:20230423T173000
DTEND;TZID=America/New_York:20230423T203000
DTSTAMP:20260423T045814
CREATED:20230403T114638Z
LAST-MODIFIED:20230403T114638Z
UID:10002055-1682271000-1682281800@the-e-list.com
SUMMARY:Haitian Dinner
DESCRIPTION:An authentic Haitian dinner catered by Mommy’s Restaurant in Norwich will be held at The First Congregational Church of Old Lyme. Dinner will be followed by a presentation of the work of The Crosby Fund for Haitian Education. \nMore than 15 years ago\, Rev. Becky Crosby – currently our minister of Haitian outreach – and her husband Frederick created a nonprofit organization to provide affordable educational opportunities for young people in Haiti.  Since then\, the Crosby Fund for Haitian Education has forged lifelong links between members of our congregation and the young people of Haiti. \nTo learn more\, Click Here. \nFor reservations call FCCOL at 860-434-8686. \nSuggested donation $10.00 to support The Crosby Fund for Haitian Education .
URL:https://the-e-list.com/event/haitian-dinner/
LOCATION:The First Congregational Church of Old Lyme\, 2 Ferry Road\, Old Lyme\, CT\, 06371\, United States
ATTACH;FMTTYPE=image/jpeg:https://the-e-list.com/wp-content/uploads/2023/04/12729289_1116733961684478_6030152052384399000_n-e1680536391107.jpeg
END:VEVENT
END:VCALENDAR