BEGIN:VCALENDAR
VERSION:2.0
PRODID:-//The E List - ECPv6.15.20//NONSGML v1.0//EN
CALSCALE:GREGORIAN
METHOD:PUBLISH
X-ORIGINAL-URL:https://the-e-list.com
X-WR-CALDESC:Events for The E List
REFRESH-INTERVAL;VALUE=DURATION:PT1H
X-Robots-Tag:noindex
X-PUBLISHED-TTL:PT1H
BEGIN:VTIMEZONE
TZID:America/New_York
BEGIN:DAYLIGHT
TZOFFSETFROM:-0500
TZOFFSETTO:-0400
TZNAME:EDT
DTSTART:20220313T070000
END:DAYLIGHT
BEGIN:STANDARD
TZOFFSETFROM:-0400
TZOFFSETTO:-0500
TZNAME:EST
DTSTART:20221106T060000
END:STANDARD
BEGIN:DAYLIGHT
TZOFFSETFROM:-0500
TZOFFSETTO:-0400
TZNAME:EDT
DTSTART:20230312T070000
END:DAYLIGHT
BEGIN:STANDARD
TZOFFSETFROM:-0400
TZOFFSETTO:-0500
TZNAME:EST
DTSTART:20231105T060000
END:STANDARD
BEGIN:DAYLIGHT
TZOFFSETFROM:-0500
TZOFFSETTO:-0400
TZNAME:EDT
DTSTART:20240310T070000
END:DAYLIGHT
BEGIN:STANDARD
TZOFFSETFROM:-0400
TZOFFSETTO:-0500
TZNAME:EST
DTSTART:20241103T060000
END:STANDARD
END:VTIMEZONE
BEGIN:VEVENT
DTSTART;TZID=America/New_York:20230822T180000
DTEND;TZID=America/New_York:20230822T193000
DTSTAMP:20260423T060031
CREATED:20230811T180525Z
LAST-MODIFIED:20230811T180525Z
UID:10002250-1692727200-1692732600@the-e-list.com
SUMMARY:How to Create Magnetic Social Media Content With Ease
DESCRIPTION:Spend the evening with professional social media manager\, Annie Carl\, learning all the ins and outs of social media content creation. In this 90 minute workshop you will… \n• Learn how to automate and optimize your socials while creating a cohesive feed.\n• Learn what content Instagram is currently favoring and how to use this to your advantage.\n• Learn the key ingredients to creating savable and shareable content that leads to major visibility and sales. \nSocial media can be wildly frustrating…but it doesn’t have to be. And that’s what this workshop it for. Come learn how to make managing your socials fun and easy all while yielding more visibility and sales!
URL:https://the-e-list.com/event/how-to-create-magnetic-social-media-content-with-ease/
LOCATION:The Hive Chester\, 1 Maple Street\, Chester\, CT\, 06412\, United States
ATTACH;FMTTYPE=image/png:https://the-e-list.com/wp-content/uploads/2023/08/Pastel-minimalist-Sport-Event-Instagram-Post-600-×-450-px.png
END:VEVENT
BEGIN:VEVENT
DTSTART;TZID=America/New_York:20230428T170000
DTEND;TZID=America/New_York:20230428T200000
DTSTAMP:20260423T060031
CREATED:20230307T141716Z
LAST-MODIFIED:20230307T141716Z
UID:10000061-1682701200-1682712000@the-e-list.com
SUMMARY:BOOK LAUNCH "My Roots Grow Strong"
DESCRIPTION:Enjoy an evening of connection\, cocktails & apps celebrating “My Roots Grow Strong” poetry collection release. This book is beautifully illustrated with themes of healing and hope\, love and loss\, mental health\, miscarriage\, womanhood\, motherhood and mother nature. Roots are one’s foundation for strength and growth. While our heart\, mind and body represent all pieces of us and our stories. This book’s purpose is to show everyone that we have the strength to overcome life’s struggles and that we are connected. See the beauty in your story. \nRSVP to: connect@melissasprattwrites.com \nFor more info visit: melissasprattwrites.com
URL:https://the-e-list.com/event/book-launch-my-roots-grow-strong/
LOCATION:The Hive Chester\, 1 Maple Street\, Chester\, CT\, 06412\, United States
ATTACH;FMTTYPE=image/png:https://the-e-list.com/wp-content/uploads/2023/03/My-Roots-Grow-Strong-Light-Cover-1-e1678216227497.png
END:VEVENT
END:VCALENDAR