BEGIN:VCALENDAR
VERSION:2.0
PRODID:-//The E List - ECPv6.15.20//NONSGML v1.0//EN
CALSCALE:GREGORIAN
METHOD:PUBLISH
X-ORIGINAL-URL:https://the-e-list.com
X-WR-CALDESC:Events for The E List
REFRESH-INTERVAL;VALUE=DURATION:PT1H
X-Robots-Tag:noindex
X-PUBLISHED-TTL:PT1H
BEGIN:VTIMEZONE
TZID:UTC
BEGIN:STANDARD
TZOFFSETFROM:+0000
TZOFFSETTO:+0000
TZNAME:UTC
DTSTART:20230101T000000
END:STANDARD
END:VTIMEZONE
BEGIN:VTIMEZONE
TZID:America/New_York
BEGIN:DAYLIGHT
TZOFFSETFROM:-0500
TZOFFSETTO:-0400
TZNAME:EDT
DTSTART:20210314T070000
END:DAYLIGHT
BEGIN:STANDARD
TZOFFSETFROM:-0400
TZOFFSETTO:-0500
TZNAME:EST
DTSTART:20211107T060000
END:STANDARD
BEGIN:DAYLIGHT
TZOFFSETFROM:-0500
TZOFFSETTO:-0400
TZNAME:EDT
DTSTART:20220313T070000
END:DAYLIGHT
BEGIN:STANDARD
TZOFFSETFROM:-0400
TZOFFSETTO:-0500
TZNAME:EST
DTSTART:20221106T060000
END:STANDARD
BEGIN:DAYLIGHT
TZOFFSETFROM:-0500
TZOFFSETTO:-0400
TZNAME:EDT
DTSTART:20230312T070000
END:DAYLIGHT
BEGIN:STANDARD
TZOFFSETFROM:-0400
TZOFFSETTO:-0500
TZNAME:EST
DTSTART:20231105T060000
END:STANDARD
BEGIN:DAYLIGHT
TZOFFSETFROM:-0500
TZOFFSETTO:-0400
TZNAME:EDT
DTSTART:20240310T070000
END:DAYLIGHT
BEGIN:STANDARD
TZOFFSETFROM:-0400
TZOFFSETTO:-0500
TZNAME:EST
DTSTART:20241103T060000
END:STANDARD
END:VTIMEZONE
BEGIN:VEVENT
DTSTART;TZID=UTC:20240120T090000
DTEND;TZID=UTC:20240120T120000
DTSTAMP:20260424T035721
CREATED:20240117T173724Z
LAST-MODIFIED:20240117T173724Z
UID:10002460-1705741200-1705752000@the-e-list.com
SUMMARY:Independent Day School Open House
DESCRIPTION:As you walk the hallways of IDS you can feel the energy of their students engaged and fearless in the pursuit of learning. The classrooms are small for individual focus but cross-graded at appropriate times to provide social and leadership development. They are different because they know their students deeply both as individuals and as learners\, focusing on whole-student teaching and experiential learning. IDS offers an academically rigorous curriculum\, four Centers for Excellence focusing on global citizenship\, entrepreneurship\, environmental literacy and the creative arts. They have an award-winning music and chorus program\, theater productions at every grade level starting in Kindergarten\, and a strong visual arts program. Come see for yourself the difference an IDS education can make! \nOpen House 1/20 from 9am-12pm \nMore info here.
URL:https://the-e-list.com/event/independent-day-school-open-house/
LOCATION:The Independent Day School\, 115 Laurel Brook Road\, Middlefield\, CT\, 06455\, United States
ATTACH;FMTTYPE=image/jpeg:https://the-e-list.com/wp-content/uploads/2024/01/174deb8625ca45524b6d890e_504x460.jpg
END:VEVENT
BEGIN:VEVENT
DTSTART;TZID=America/New_York:20231111T090000
DTEND;TZID=America/New_York:20231111T120000
DTSTAMP:20260424T035721
CREATED:20231025T175045Z
LAST-MODIFIED:20231025T175045Z
UID:10002338-1699693200-1699704000@the-e-list.com
SUMMARY:Independent Day School Fall Open House
DESCRIPTION:Explore the Independent Day School at their Fall Open House on Saturday\, November 11th from 9:00 am-12:00 pm to learn about the difference an IDS education can make. IDS offers an academically rigorous curriculum\, an award-winning music and chorus program\, theater productions at every grade level starting in Kindergarten\, and a strong visual arts program.  Visit their 33-acre campus and learn about The Independent Day School. \nClick to register to attend.
URL:https://the-e-list.com/event/independent-day-school-fall-open-house/
LOCATION:The Independent Day School\, 115 Laurel Brook Road\, Middlefield\, CT\, 06455\, United States
ATTACH;FMTTYPE=image/jpeg:https://the-e-list.com/wp-content/uploads/2023/07/ids.jpg
END:VEVENT
BEGIN:VEVENT
DTSTART;TZID=America/New_York:20230801T080000
DTEND;TZID=America/New_York:20230908T170000
DTSTAMP:20260424T035721
CREATED:20230719T102725Z
LAST-MODIFIED:20230719T102725Z
UID:10002247-1690876800-1694192400@the-e-list.com
SUMMARY:Independent Day School Enrolling Now
DESCRIPTION:At IDS\, we know our students deeply both as individuals and as learners\, focusing on whole-student teaching and experiential learning. IDS offers an academically rigorous curriculum\, an award-winning music and chorus program\, theater productions at every grade level starting in Kindergarten\, and a strong visual arts program. Visit our 33-acre campus and learn about the difference an IDS education can make! \nContact Laura Jalinskas at (860) 740-4025 or jalinskasl@independentdayschool.org to schedule a visit. \nFor more information on our campus visit: independentdayschool.org \n 
URL:https://the-e-list.com/event/independent-day-school-enrolling-now/
LOCATION:The Independent Day School\, 115 Laurel Brook Road\, Middlefield\, CT\, 06455\, United States
ATTACH;FMTTYPE=image/jpeg:https://the-e-list.com/wp-content/uploads/2023/07/ids.jpg
END:VEVENT
BEGIN:VEVENT
DTSTART;VALUE=DATE:20230801
DTEND;VALUE=DATE:20230907
DTSTAMP:20260424T035721
CREATED:20230713T163013Z
LAST-MODIFIED:20230713T163013Z
UID:10002203-1690848000-1694044799@the-e-list.com
SUMMARY:Walk About Wednesdays at Independent Day School
DESCRIPTION:Imagine a school where learning is fun! At IDS\, each day brings a new opportunity to collaborate\, create and explore. We welcome you to visit during our Walk About Wednesdays 9-11am throughout the summer\, to explore our campus\, experience our project-based curriculum\, and learn from faculty what makes IDS unique. Come see what makes our students FEARLESS and the difference and IDS education can make. Call or email to register for Wednesdays or set up a tour at your convenience. \nFor more information visit us at: independentdayschool.org
URL:https://the-e-list.com/event/walk-about-wednesdays/
LOCATION:The Independent Day School\, 115 Laurel Brook Road\, Middlefield\, CT\, 06455\, United States
ATTACH;FMTTYPE=image/jpeg:https://the-e-list.com/wp-content/uploads/2023/07/Walk-About-Wednesdays1-e1689279751464.jpg
END:VEVENT
BEGIN:VEVENT
DTSTART;TZID=America/New_York:20230531T160000
DTEND;TZID=America/New_York:20230531T173000
DTSTAMP:20260424T035721
CREATED:20230518T133046Z
LAST-MODIFIED:20230518T133046Z
UID:10002178-1685548800-1685554200@the-e-list.com
SUMMARY:The Independent Day School Open House
DESCRIPTION:IDS is hosting an Open House on Wednesday\, May 31st from 4:00-5:30pm. \nProspective parents and students are welcome to join us to explore our beautiful 33-acre educational campus\, hear testimonials from current students and parents and meet with teachers to learn about small class sizes that utilize our hands-on\, experiential and student-centered instruction. \nCome learn what Fearless Learning looks like! \nFor more information on IDS visit: independentdayschool.org \n 
URL:https://the-e-list.com/event/the-independent-day-school-open-house/
LOCATION:The Independent Day School\, 115 Laurel Brook Road\, Middlefield\, CT\, 06455\, United States
ATTACH;FMTTYPE=image/jpeg:https://the-e-list.com/wp-content/uploads/2023/05/IDS-Fearless-Logo-header-e1684430468455.jpg
END:VEVENT
BEGIN:VEVENT
DTSTART;TZID=America/New_York:20220122T090000
DTEND;TZID=America/New_York:20220122T120000
DTSTAMP:20260424T035721
CREATED:20220105T120750Z
LAST-MODIFIED:20220105T120750Z
UID:10001696-1642842000-1642852800@the-e-list.com
SUMMARY:Independent Day School January In-Person Open House
DESCRIPTION:Please join us on Saturday morning\, January 22\, 2022\, from 9 – 12 pm for an in-person open house. In addition to touring our school and seeing our beautiful facilities\, you will hear from current parents\, faculty\, administrators\, and students about what sets our academic program apart from other schools and what makes our students FEARLESS! \nSign up here: https://independentdayschool.myschoolapp.com/podium/default.aspx?t=36644&rid=36856
URL:https://the-e-list.com/event/independent-day-school-january-in-person-open-house/
LOCATION:The Independent Day School\, 115 Laurel Brook Road\, Middlefield\, CT\, 06455\, United States
ATTACH;FMTTYPE=image/jpeg:https://the-e-list.com/wp-content/uploads/2022/01/Jan-open-house-1-e1641402058337.jpg
END:VEVENT
END:VCALENDAR