BEGIN:VCALENDAR
VERSION:2.0
PRODID:-//The E List - ECPv6.15.20//NONSGML v1.0//EN
CALSCALE:GREGORIAN
METHOD:PUBLISH
X-ORIGINAL-URL:https://the-e-list.com
X-WR-CALDESC:Events for The E List
REFRESH-INTERVAL;VALUE=DURATION:PT1H
X-Robots-Tag:noindex
X-PUBLISHED-TTL:PT1H
BEGIN:VTIMEZONE
TZID:America/New_York
BEGIN:DAYLIGHT
TZOFFSETFROM:-0500
TZOFFSETTO:-0400
TZNAME:EDT
DTSTART:20210314T070000
END:DAYLIGHT
BEGIN:STANDARD
TZOFFSETFROM:-0400
TZOFFSETTO:-0500
TZNAME:EST
DTSTART:20211107T060000
END:STANDARD
BEGIN:DAYLIGHT
TZOFFSETFROM:-0500
TZOFFSETTO:-0400
TZNAME:EDT
DTSTART:20220313T070000
END:DAYLIGHT
BEGIN:STANDARD
TZOFFSETFROM:-0400
TZOFFSETTO:-0500
TZNAME:EST
DTSTART:20221106T060000
END:STANDARD
BEGIN:DAYLIGHT
TZOFFSETFROM:-0500
TZOFFSETTO:-0400
TZNAME:EDT
DTSTART:20230312T070000
END:DAYLIGHT
BEGIN:STANDARD
TZOFFSETFROM:-0400
TZOFFSETTO:-0500
TZNAME:EST
DTSTART:20231105T060000
END:STANDARD
END:VTIMEZONE
BEGIN:VEVENT
DTSTART;TZID=America/New_York:20220811T140000
DTEND;TZID=America/New_York:20220813T200000
DTSTAMP:20260425T162815
CREATED:20220802T131739Z
LAST-MODIFIED:20220802T131739Z
UID:10000111-1660226400-1660420800@the-e-list.com
SUMMARY:Legacy Theatre Presents "My Unauthorized Hallmark Movie Musical"
DESCRIPTION:The team at The Legacy Theatre\, Branford’s own regional\, professional theatre on the shoreline\, is incredibly excited to bring an entertaining and technically brilliant new musical to the Legacy stage. Running Thursday\, August 11 to Saturday\, August 13\, is the fourth installment in Legacy’s 2022 New Works Series – “My Unauthorized Hallmark Movie Musical.” \nHallmark meets Broadway: a match made in heaven! In “My Unauthorized Hallmark Movie Musical\,” discover a writer who dreams herself awake and re-discovers romance in a nonconventional way. Attempting to write her own story\, we get a front-row seat to her imagination as the characters in her struggling script come to life\, interacting with her through multimedia. With song\, dance\, and comedic quips\, the characters help her to revitalize a dream long held but never realized. Enjoy utterly delightful ditties in this frivolous\, fractured\, and fun musical where love always wins! \nDirected by Legacy co-founder and Artistic Director\, Keely Baisden Knudsen\, this innovative feel-good musical features the live performance of Broadway’s Anne Runolfsson (“Phantom of the Opera\,” “Les Misérables\,” “Victor/Victoria”) magically interacting with multimedia video performances by eight dynamic musical performers (Nina Herzog\, Benny Perez\, Andrew Joseph Perez\, Jim Blanchette\, Tess Adams\, Monika Pena\, Maggie Howell\, Samantha Labrecque). The virtual actors converse\, sing\, and dance with Anne through the magic of multimedia\, directed by Crissy Guerrero. Featuring songs such as “Cheesy\,” “True Love’s Kiss\,” and “Love is a Risky Business\,” “My Unauthorized Hallmark Movie Musical” is the perfect ladies’ night out! Escape into the magic of a romance movie fantasy and celebrate the joys of Hallmark in Legacy’s state-of-the-art\, newly restored facility this August. \nTickets can be purchased online at Legacy’s website\, LegacyTheatreCT.org. Tickets can also be purchased in-person or via phone at the Box Office during open hours\, which can be found in the footer of Legacy’s website. The Box Office can be reached at (203) 315-1901. Tickets to the production are $35-$60\, with discounted rates for seniors\, students\, and groups available through the Box Office. \nThe Legacy Theatre is located in the village of Stony Creek in Branford\, CT. In keeping with Connecticut Safety Guidelines\, masks are required for non-vaccinated patrons when in the building and are also strongly recommended for those who have been vaccinated\, though not required. Legacy Theatre has a state-of-the-art air filtration system\, and the theatre is cleaned and sanitized after every performance.
URL:https://the-e-list.com/event/legacy-theatre-presents-my-unauthorized-hallmark-movie-musical/
LOCATION:The Legacy Theatre\, 128 Thimble Islands Road\, Branford\, 06405\, United States
ATTACH;FMTTYPE=image/jpeg:https://the-e-list.com/wp-content/uploads/2022/08/My-Unauthorized-Hallmark-Movie-Musical_01-e1659460571582.jpg
END:VEVENT
END:VCALENDAR