BEGIN:VCALENDAR
VERSION:2.0
PRODID:-//The E List - ECPv6.15.20//NONSGML v1.0//EN
CALSCALE:GREGORIAN
METHOD:PUBLISH
X-ORIGINAL-URL:https://the-e-list.com
X-WR-CALDESC:Events for The E List
REFRESH-INTERVAL;VALUE=DURATION:PT1H
X-Robots-Tag:noindex
X-PUBLISHED-TTL:PT1H
BEGIN:VTIMEZONE
TZID:UTC
BEGIN:STANDARD
TZOFFSETFROM:+0000
TZOFFSETTO:+0000
TZNAME:UTC
DTSTART:20230101T000000
END:STANDARD
END:VTIMEZONE
BEGIN:VEVENT
DTSTART;TZID=UTC:20251211T170000
DTEND;TZID=UTC:20251211T200000
DTSTAMP:20260423T063013
CREATED:20251111T211921Z
LAST-MODIFIED:20251111T211921Z
UID:10003235-1765472400-1765483200@the-e-list.com
SUMMARY:Save the Date! Girls' Night Out in Guilford 2025
DESCRIPTION:Save the Date! December 11th \nMeet The E List team at The Marketplace (77 Whitfield Street) between 5 and 6:30 to pick up your sticker to qualify for discounts at participating shops and restaurants. Enjoy a glass of half-priced wine before heading out to browse the boutiques of Guilford and take 20% off everything (some exclusions apply).  \n  \nDetails to come!
URL:https://the-e-list.com/event/save-the-date-girls-night-out-in-guilford-2025/
LOCATION:The Marketplace at Guilford Center\, The Guilford Green\, Guilford\, CT\, 06437\, United States
ATTACH;FMTTYPE=image/jpeg:https://the-e-list.com/wp-content/uploads/2022/10/GNO_EList970-e1666802842684.jpg
GEO:41.2831893;-72.6820051
X-APPLE-STRUCTURED-LOCATION;VALUE=URI;X-ADDRESS=The Marketplace at Guilford Center The Guilford Green Guilford CT 06437 United States;X-APPLE-RADIUS=500;X-TITLE=The Guilford Green:geo:-72.6820051,41.2831893
END:VEVENT
BEGIN:VEVENT
DTSTART;TZID=UTC:20241205T170000
DTEND;TZID=UTC:20241205T200000
DTSTAMP:20260423T063013
CREATED:20241112T002938Z
LAST-MODIFIED:20241118T234833Z
UID:10002820-1733418000-1733428800@the-e-list.com
SUMMARY:Save the Date! Girls' Night Out in Guilford 2024
DESCRIPTION:Save the Date! December 5th \nMeet The E List team at The Marketplace (77 Whitfield Street) between 5 and 6:30 to pick up your sticker to qualify for discounts at participating shops and restaurants. Enjoy a glass of half-priced wine before heading out to browse the boutiques of Guilford and take 20% off everything (some exclusions apply).  \n  \nDetails to come!
URL:https://the-e-list.com/event/save-the-date-girls-night-out-in-guilford-2024/
LOCATION:The Marketplace at Guilford Center\, The Guilford Green\, Guilford\, CT\, 06437\, United States
ATTACH;FMTTYPE=image/jpeg:https://the-e-list.com/wp-content/uploads/2022/10/GNO_EList970-e1666802842684.jpg
GEO:41.2831893;-72.6820051
X-APPLE-STRUCTURED-LOCATION;VALUE=URI;X-ADDRESS=The Marketplace at Guilford Center The Guilford Green Guilford CT 06437 United States;X-APPLE-RADIUS=500;X-TITLE=The Guilford Green:geo:-72.6820051,41.2831893
END:VEVENT
END:VCALENDAR