BEGIN:VCALENDAR
VERSION:2.0
PRODID:-//The E List - ECPv6.15.20//NONSGML v1.0//EN
CALSCALE:GREGORIAN
METHOD:PUBLISH
X-ORIGINAL-URL:https://the-e-list.com
X-WR-CALDESC:Events for The E List
REFRESH-INTERVAL;VALUE=DURATION:PT1H
X-Robots-Tag:noindex
X-PUBLISHED-TTL:PT1H
BEGIN:VTIMEZONE
TZID:UTC
BEGIN:STANDARD
TZOFFSETFROM:+0000
TZOFFSETTO:+0000
TZNAME:UTC
DTSTART:20230101T000000
END:STANDARD
END:VTIMEZONE
BEGIN:VEVENT
DTSTART;VALUE=DATE:20241129
DTEND;VALUE=DATE:20241227
DTSTAMP:20260425T134921
CREATED:20241111T145659Z
LAST-MODIFIED:20241209T221028Z
UID:10002818-1732838400-1735257599@the-e-list.com
SUMMARY:Free and Fun Festivities at The Shops at Yale This Holiday Season
DESCRIPTION:Celebrate the holidays in historic Downtown New Haven at The Shops at Yale with festive events including storytelling and pictures with Santa & Mrs. Claus\, ice carving demonstrations\, strolling Yuletide Carolers\, and more! Plus\, enjoy 2-hours of free parking and a complimentary hot cocoa at Claire’s Corner Copia or Common Grounds with a same-day retail purchase of $50 or more\, available through Dec. 24. \nClick to plan your visit.
URL:https://the-e-list.com/event/free-and-fun-festivities-at-the-shops-at-yale-this-holiday-season/
LOCATION:The Shops at Yale\, New Haven\, CT\, 06511\, United States
ATTACH;FMTTYPE=image/jpeg:https://the-e-list.com/wp-content/uploads/2024/11/KIM_6565-scaled-e1731337011969.jpg
END:VEVENT
BEGIN:VEVENT
DTSTART;TZID=UTC:20241012T140000
DTEND;TZID=UTC:20241012T160000
DTSTAMP:20260425T134921
CREATED:20240924T175523Z
LAST-MODIFIED:20240924T175523Z
UID:10002766-1728741600-1728748800@the-e-list.com
SUMMARY:7th Annual New Haven Chalk Art Festival
DESCRIPTION:Enjoy an afternoon of art\, community\, music\, and entertainment at the 7th Annual New Haven Chalk Art Festival on Saturday\, October 12\, from 12:00–4:00 PM in the Chapel and Broadway districts in historic Downtown New Haven. The rain date is October 13.\n\nWatch the sidewalks come to life as over 65 artists create stunning chalk designs at two locations\, and cast your vote for your favorite to win $50 gift cards to local restaurants. The event will feature a roaming magician\, live jazz\, free kettle corn\, and more! Local restaurants and retailers will be offering exclusive deals\, with special sales sheets available at The Shops at Yale tables during the event.\n\nIn addition\, families can visit the Family Fun Zone\, where children will receive free Crayola Sidewalk Chalk\, enjoy free drawing lessons with a professional artist from The Giggling Pig\, face painting\, music\, and more.\n\nParking is free at the 150 York Street Garage from 11:00 AM–6:00 PM with a validation stamp at the event. Learn more\, here https://theshopsatyale.com/chalkart/
URL:https://the-e-list.com/event/7th-annual-new-haven-chalk-art-festival/
LOCATION:The Shops at Yale\, New Haven\, CT\, 06511\, United States
ATTACH;FMTTYPE=image/jpeg:https://the-e-list.com/wp-content/uploads/2024/09/chalk-art-fest-sept-24-1.jpg
END:VEVENT
BEGIN:VEVENT
DTSTART;VALUE=DATE:20240413
DTEND;VALUE=DATE:20240609
DTSTAMP:20260425T134921
CREATED:20240404T123539Z
LAST-MODIFIED:20240515T235158Z
UID:10002568-1712966400-1717891199@the-e-list.com
SUMMARY:Appetizer and Dessert Crawl Returns to The Shops at Yale
DESCRIPTION:Saturday\, June 8\, 2024 | 12:00-3:00 pm *This event has SOLD OUT. But here’s your chance to ENTER TO WIN a Family Four Pack of Tickets for the June 8th Event: \n  \n \n  \nParking\nYour Appetizer & Dessert Crawl ticket purchase includes free parking at the 150 York Street Garage aka Chapel-York Garage. Bring your parking ticket from the garage to check-in to be validated.
URL:https://the-e-list.com/event/appetizer-and-dessert-crawl-returns-to-the-shops-at-yale/
LOCATION:The Shops at Yale\, New Haven\, CT\, 06511\, United States
ATTACH;FMTTYPE=image/jpeg:https://the-e-list.com/wp-content/uploads/2023/09/2-2.jpg
END:VEVENT
END:VCALENDAR