BEGIN:VCALENDAR
VERSION:2.0
PRODID:-//The E List - ECPv6.15.20//NONSGML v1.0//EN
CALSCALE:GREGORIAN
METHOD:PUBLISH
X-ORIGINAL-URL:https://the-e-list.com
X-WR-CALDESC:Events for The E List
REFRESH-INTERVAL;VALUE=DURATION:PT1H
X-Robots-Tag:noindex
X-PUBLISHED-TTL:PT1H
BEGIN:VTIMEZONE
TZID:UTC
BEGIN:STANDARD
TZOFFSETFROM:+0000
TZOFFSETTO:+0000
TZNAME:UTC
DTSTART:20230101T000000
END:STANDARD
END:VTIMEZONE
BEGIN:VTIMEZONE
TZID:America/New_York
BEGIN:DAYLIGHT
TZOFFSETFROM:-0500
TZOFFSETTO:-0400
TZNAME:EDT
DTSTART:20210314T070000
END:DAYLIGHT
BEGIN:STANDARD
TZOFFSETFROM:-0400
TZOFFSETTO:-0500
TZNAME:EST
DTSTART:20211107T060000
END:STANDARD
BEGIN:DAYLIGHT
TZOFFSETFROM:-0500
TZOFFSETTO:-0400
TZNAME:EDT
DTSTART:20220313T070000
END:DAYLIGHT
BEGIN:STANDARD
TZOFFSETFROM:-0400
TZOFFSETTO:-0500
TZNAME:EST
DTSTART:20221106T060000
END:STANDARD
BEGIN:DAYLIGHT
TZOFFSETFROM:-0500
TZOFFSETTO:-0400
TZNAME:EDT
DTSTART:20230312T070000
END:DAYLIGHT
BEGIN:STANDARD
TZOFFSETFROM:-0400
TZOFFSETTO:-0500
TZNAME:EST
DTSTART:20231105T060000
END:STANDARD
BEGIN:DAYLIGHT
TZOFFSETFROM:-0500
TZOFFSETTO:-0400
TZNAME:EDT
DTSTART:20240310T070000
END:DAYLIGHT
BEGIN:STANDARD
TZOFFSETFROM:-0400
TZOFFSETTO:-0500
TZNAME:EST
DTSTART:20241103T060000
END:STANDARD
END:VTIMEZONE
BEGIN:VEVENT
DTSTART;VALUE=DATE:20240624
DTEND;VALUE=DATE:20240629
DTSTAMP:20260425T184049
CREATED:20240507T211101Z
LAST-MODIFIED:20240612T183514Z
UID:10002604-1719187200-1719619199@the-e-list.com
SUMMARY:Williams Summer Camp
DESCRIPTION:Summer Camp Week at Williams 2024 \nJune 24th-28th \nThis year Williams is excited to introduce a schedule with Arts in the mornings and Athletics in the afternoons. \nAll summer camps are directed by Williams School Teachers & Faculty. \nIf you have any questions or concerns regarding Summer Camp\, please email Tricia Walsh\, Associate Director of Marketing Communications at twalsh@williamsschool.org. \nCamp options include; Arts & Wellness\, Photography\, Theater\, Basketball\, Sailing\, Soccer\, Summer Sticks Lacrosse
URL:https://the-e-list.com/event/williams-summer-camp/
LOCATION:The Williams School\, 182 Mohegan Ave\, New London\, CT\, 06320\, United States
ATTACH;FMTTYPE=image/jpeg:https://the-e-list.com/wp-content/uploads/2024/05/Summer-Camp-Elist-Calendar.jpg
END:VEVENT
BEGIN:VEVENT
DTSTART;TZID=America/New_York:20231024T170000
DTEND;TZID=America/New_York:20231024T183000
DTSTAMP:20260425T184049
CREATED:20230907T153928Z
LAST-MODIFIED:20230907T153928Z
UID:10001732-1698166800-1698172200@the-e-list.com
SUMMARY:Williams School Information Session
DESCRIPTION:Visit the Williams School for a quick and easy way for prospective students and their families to learn more about the value of a Williams education\, their inclusive community\, as well as arts and athletic opportunities. \nCommunity & Curriculum Overview\nCampus Tours with Student Ambassadors \nStop by October 24\, 2023 from 5:00 – 6:30pm. \nClick to sign-up for the info session.
URL:https://the-e-list.com/event/williams-school-info-session/
LOCATION:The Williams School\, 182 Mohegan Ave\, New London\, CT\, 06320\, United States
ATTACH;FMTTYPE=image/jpeg:https://the-e-list.com/wp-content/uploads/2023/09/Williams-Fall-22-0451-e1694115061312.jpg
END:VEVENT
BEGIN:VEVENT
DTSTART;VALUE=DATE:20220301
DTEND;VALUE=DATE:20220401
DTSTAMP:20260425T184049
CREATED:20220204T154132Z
LAST-MODIFIED:20220204T154132Z
UID:10001737-1646092800-1648771199@the-e-list.com
SUMMARY:March at The Williams School
DESCRIPTION:There’s a lot going on at The Williams School in March\, join us!\n\nFree Basketball DRILLS & Learning & Leadership SKILLS Clinic for 4th-11th graders on March 5 \nWhether for fun or competition\, Williams’ scholar-athletes learn the value of mind\, body\, and spirit through its athletic program. On Saturday\, March 5th\, all students in grades 4-11 are invited to join Williams’ Athletic Director Kevin Steuer\, Boys Varsity Basketball Coach Miles Daniels\, and members of the Boys and Girls Varsity Basketball Teams for a morning on the court and in the classroom. Dividing into two age appropropriate groups (4th-7th and 8th-11th grade) the program will include lessons in basketball\, study skills\, financial literacy\, and leadership. Optional campus tours will be offered before and after each program. Participants must register in advance and we request that they bring one non-perishable food item to donate to a local shelter.   \nAnnual Compchorea Performance to feature Student-Composed Music & Student-Choreographed Dance  \nCompchorea will take center stage at Williams’ Daren Performing Arts Center on March 3rd-5th.  Guided by Williams’ Director of Dance Bo Parish and new Music Director Jeffrey Creuger\, students are empowered to create their own works for this annual event in its 40th year of production. Students have composed music pieces from classical instrumental composition to upbeat rock-bands and choreographed dances in a variety of styles. Parish also auditions and selects dancers for three ensemble dances. The community coming together for this performance is a popular tradition and includes generations of alumni who will tune-in to watch the show online. While the School will only offer in-person tickets to current students and their families\, we invite the public to watch the performance on the School’s YouTube Channel for a live premiere on Thursday March 3\, 2022 at 7:00 PM. \nThe Williams School is an independent college prep day school for students in grades 6 – 12 on the campus of Connecticut College. \nMore info here.
URL:https://the-e-list.com/event/march-at-the-williams-school/
LOCATION:The Williams School\, 182 Mohegan Ave\, New London\, CT\, 06320\, United States
ATTACH;FMTTYPE=image/png:https://the-e-list.com/wp-content/uploads/2022/02/Basketball_Dance.png
END:VEVENT
END:VCALENDAR