BEGIN:VCALENDAR
VERSION:2.0
PRODID:-//The E List - ECPv6.15.20//NONSGML v1.0//EN
CALSCALE:GREGORIAN
METHOD:PUBLISH
X-WR-CALNAME:The E List
X-ORIGINAL-URL:https://the-e-list.com
X-WR-CALDESC:Events for The E List
REFRESH-INTERVAL;VALUE=DURATION:PT1H
X-Robots-Tag:noindex
X-PUBLISHED-TTL:PT1H
BEGIN:VTIMEZONE
TZID:UTC
BEGIN:STANDARD
TZOFFSETFROM:+0000
TZOFFSETTO:+0000
TZNAME:UTC
DTSTART:20240101T000000
END:STANDARD
END:VTIMEZONE
BEGIN:VEVENT
DTSTART;VALUE=DATE:20251213
DTEND;VALUE=DATE:20251214
DTSTAMP:20260425T190142
CREATED:20251031T004456Z
LAST-MODIFIED:20251031T004534Z
UID:10003218-1765584000-1765670399@the-e-list.com
SUMMARY:Holiday Open House
DESCRIPTION:Join Tulips at Waters Edge as they celebrate 10 Wonderful years at their Westbrook studio with a festive Holiday Open House! \nStep into a winter wonderland filled with holiday floral arrangements\, hand- tied bouquets\, and charming live Christmas trees…each beautifully decorated to spark your seasonal spirit. \nBring the entire family! We’ll have a special Christmas ornament workshop for the kiddos\, along with plenty of inspiration (and maybe a little sparkle) to take home. \nCome\, shop and celebrate a decade of flowers\, friends\, and community. We can’t wait to share this milestone with you!
URL:https://the-e-list.com/event/holiday-open-house/
LOCATION:Tulips at Waters Edge\, 1520 Boston Post Rd\, Westbrook\, CT
ATTACH;FMTTYPE=image/jpeg:https://the-e-list.com/wp-content/uploads/2025/10/20241224_134618-scaled-e1761871430836.jpg
END:VEVENT
END:VCALENDAR