BEGIN:VCALENDAR
VERSION:2.0
PRODID:-//The E List - ECPv6.15.20//NONSGML v1.0//EN
CALSCALE:GREGORIAN
METHOD:PUBLISH
X-ORIGINAL-URL:https://the-e-list.com
X-WR-CALDESC:Events for The E List
REFRESH-INTERVAL;VALUE=DURATION:PT1H
X-Robots-Tag:noindex
X-PUBLISHED-TTL:PT1H
BEGIN:VTIMEZONE
TZID:UTC
BEGIN:STANDARD
TZOFFSETFROM:+0000
TZOFFSETTO:+0000
TZNAME:UTC
DTSTART:20240101T000000
END:STANDARD
END:VTIMEZONE
BEGIN:VEVENT
DTSTART;TZID=UTC:20251204T170000
DTEND;TZID=UTC:20251204T200000
DTSTAMP:20260424T012445
CREATED:20251125T011020Z
LAST-MODIFIED:20251127T144905Z
UID:10003260-1764867600-1764878400@the-e-list.com
SUMMARY:Madison Ladies Shopping Night Out
DESCRIPTION:Ladies’ Night Out in Downtown Madison – Thursday\, December 4th! \nGet ready for the annual Ladies’ Night Out in Madison\, a fun evening to catch up with friends\, kick off your holiday shopping\, and enjoy festive experiences in downtown Madison! Join the fun on Thursday\, December 4th from 5:00 – 8:00 PM\, along Boston Post Road and Wall Street. \nDuring this festive night out\, your favorite shops will be offering:\n* Exclusive in-store events and seasonal specials\n* Complimentary gift wrapping\n* Lite bites and holiday cheer\n* Up to 20% off at participating shops \nStart your evening at Café Allegre\, where the Madison Chamber will host a check-in table from 5:00–6:00 PM. Pick up your Ladies’ Night Out shopping list detailing what each store will be offering and enter our holiday raffle for a chance to win one of two gift bags filled with Madison merchant gift cards\, each valued at $300+! \nCome support local businesses\, enjoy a night out with friends\, and experience the festive spirit of downtown Madison this holiday season! \nLadies’ Night Out participating stores along Boston Post Road and Wall Street in downtown Madison\, CT: \nAngie-Lu Tailors\nAnnie Mame\nThe Audobon Shop\nCiao Bella\nThe Country Shop Creations\nDeux Bisous\nThe Dressing Room\nHomeward Collective\nJ. Horton\nJ.McLaughlin\nJunk-2-Junque\nMaggie’s of Madison\nRJ Julia\nThe Shoreline Vine SLATE\nWalker Loden\nWater Street Jewelers\nWillow and Birch
URL:https://the-e-list.com/event/madison-ladies-shopping-night-out/
LOCATION:Various stores in Madison
ATTACH;FMTTYPE=image/jpeg:https://the-e-list.com/wp-content/uploads/2025/11/Madison-Ladies-Night-Out-store-list-e1764173607755.jpg
ORGANIZER;CN="Madison Chamber of Commerce":MAILTO:chamber@madisonct.com
END:VEVENT
END:VCALENDAR