BEGIN:VCALENDAR
VERSION:2.0
PRODID:-//The E List - ECPv6.15.20//NONSGML v1.0//EN
CALSCALE:GREGORIAN
METHOD:PUBLISH
X-WR-CALNAME:The E List
X-ORIGINAL-URL:https://the-e-list.com
X-WR-CALDESC:Events for The E List
REFRESH-INTERVAL;VALUE=DURATION:PT1H
X-Robots-Tag:noindex
X-PUBLISHED-TTL:PT1H
BEGIN:VTIMEZONE
TZID:UTC
BEGIN:STANDARD
TZOFFSETFROM:+0000
TZOFFSETTO:+0000
TZNAME:UTC
DTSTART:20250101T000000
END:STANDARD
END:VTIMEZONE
BEGIN:VEVENT
DTSTART;TZID=UTC:20260509T090000
DTEND;TZID=UTC:20260509T140000
DTSTAMP:20260422T201005
CREATED:20260402T141616Z
LAST-MODIFIED:20260402T142012Z
UID:10003374-1778317200-1778335200@the-e-list.com
SUMMARY:Westbrook Garden Club May Market Plant Sale
DESCRIPTION:The Westbrook Garden Club May Market Sale will be held on Saturday\, May 9\, 2026\, 9am to 2pm (rain or shine) at the Westbrook Town Hall.  Please join us for flowers\, food\, and fun!  Offerings include annuals\, perennials\, herbs\, vegetables\, hanging baskets and more!  Club members will be offering plants dug from their own gardens as well as handmade crafts.  Master gardeners will be present to answer your gardening questions!\n\nMay Market Sale pre-orders are available 3/30/26 – 4/25/26\n\nVisit westbrookgardenclub.myshopify.com
URL:https://the-e-list.com/event/westbrook-garden-club-may-market-plant-sale/
LOCATION:Westbrook Town Hall\, 866 Boston Post Road\, Westbrook\, CT\, 06498\, United States
ATTACH;FMTTYPE=image/jpeg:https://the-e-list.com/wp-content/uploads/2026/04/WGC-May-Market-Sale-flyer.jpeg
END:VEVENT
END:VCALENDAR